Workbook

Sheet MUTABAKAT LİSTE indirimli 
A1: NO | B1: FİRMA | C1: ÜLKE | D1: SÖZL. TARİHİ | E1: SALON NO | F1: STAND NO | G1: KİRALANAN ALAN (M2) | H1: M2 BİRİM FİYATI | I1: 2. KAT UYG. ÜCRETİ | J1: STANDART STAND KURULUMU M2 | K1: STANDART STAND ÜCRETİ | L1: KATALOG VE REKLAM ÜCRETİ | M1: EKSTRA HİZMET ÜCRETİ | N1: YAPILAN İNDİRİM ORANI(%) | O1: İNDİRİM MİKTARI | P1: YAPILAN İNDİRİM ORANI | Q1: İNDİRİM MİKTARI | R1: STAND SATIŞLARI (KDV.SİZ) | S1: STAND SATIŞLARI KDV | T1: ELEKTRİK HİZMET BEDELİ | U1: TOPLAM SÖZLEŞME BEDELİ (KDV SİZ) | V1: KDV | W1: DAMGA VERGİSİ | X1: TOPLAM SÖZLEŞME BEDELİ (KDV Lİ) | Y1: EKSTRA STAND MALZ. VE EKSTRA HİZMET (KDV.SİZ) | Z1: EKSTRA STAND MALZ. VE EKSTRA HİZMET (KDV.Lİ) | AA1: KATALOG REKLAM. VE REKLAM PANOSU GELİRLERİ (KDV.SİZ) | AB1: KATALOG REKLAM. VE REKLAM PANOSU GELİRLERİ(KDV.Lİ) | AC1: GÜMRÜK VE NAKLİYE HİZMET GELİRLERİ (KDV.SİZ) | AD1: GÜMRÜK VE NAKLİYE HİZMET GELİRLERİ (KDV.Lİ) | AE1: ÖDENECEK KDV.SİZ TOPLAM | AF1: ÖDENECEK KDV.Lİ (İNDİRİMLİ) TOPLAM | AG1: KDV TUTARI | AH1: ÖDENECEK (KDV.Lİ) | AI1: ÖDENECEK VAKIF PAYI (KDV.SİZ) | AJ1: ÖDENEN DAMGA VERGİSİ | AK1: ÖDENEN SÖZLEŞME BEDELİ | AL1: ÖDENEN SÖZLEŞME BEDELİ (KDV Lİ DV DÜŞÜLMÜŞ) | AM1: ÖDENENDEN VAKIF PAYI (KDV.SİZ) | AN1: BAKİYE (KDV.Lİ) | AO1: TÜYAPTAN VAKFA ÖDENECEK İLAVE PAY | AP1: FİRMALARIN YAPTIĞI FAZLA ÖDEME TUTARI | AQ1: TAHSİL EDİLECEK BAKİYE | AR1: FİRMALARIN YAPTIĞI FAZLA ÖDEME | AT1: FİRMANIN KALAN DAMGA VERGİSİ
A2: 1 | B2: =#REF! -> #REF! | C2: =#REF! -> #REF! | D2: =#REF! -> #REF! | G2: =#REF! -> #REF! | H2: =#REF! -> #REF! | I2: =#REF! -> #REF! | J2: =#REF! -> #REF! | K2: =J2*50 -> #REF! | P2: =#REF! -> #REF! | Q2: =R2*P2 -> #REF! | R2: =#REF!+I2 -> #REF! | T2: =#REF! -> #REF! | U2: =R2+T2 -> #REF! | V2: =U2*0.18 -> #REF! | W2: =U2*16.5/1000 -> #REF! | X2: =U2+V2+W2 -> #REF! | Y2: =#REF!+#REF!+#REF!+#REF!+#REF! -> #REF! | Z2: =#REF!+#REF!+#REF!+#REF!+#REF! -> #REF! | AA2: =#REF! -> #REF! | AB2: =#REF! -> #REF! | AD2: =AC2*1.18 -> 0 | AE2: =U2+Y2+AA2+AC2 -> #REF! | AF2: =X2+Z2+AB2+AD2 -> #REF! | AI2: =AE2/2 -> #REF! | AJ2: 181.5 | AK2: =AL2/1.18 -> #REF! | AL2: =#REF!-AJ2 -> #REF! | AM2: =AK2/2 -> #REF! | AN2: =AF2-AL2-AJ2 -> #REF! | AT2: =W2-AJ2 -> #REF!
A3: =A2+1 -> 2 | B3: =#REF! -> #REF! | C3: =#REF! -> #REF! | D3: =#REF! -> #REF! | G3: =#REF! -> #REF! | H3: =#REF! -> #REF! | I3: =#REF! -> #REF! | J3: =#REF! -> #REF! | K3: =J3*50 -> #REF! | P3: =#REF! -> #REF! | Q3: =R3*P3 -> #REF! | R3: =#REF!+I3 -> #REF! | T3: =#REF! -> #REF! | U3: =R3+T3 -> #REF! | V3: =U3*0.18 -> #REF! | W3: =U3*16.5/1000 -> #REF! | X3: =U3+V3+W3 -> #REF! | Y3: =#REF!+#REF!+#REF!+#REF!+#REF! -> #REF! | Z3: =#REF!+#REF!+#REF!+#REF!+#REF! -> #REF! | AA3: =#REF! -> #REF! | AB3: =#REF! -> #REF! | AD3: =AC3*1.18 -> 0 | AE3: =U3+Y3+AA3+AC3 -> #REF! | AF3: =X3+Z3+AB3+AD3 -> #REF! | AI3: =AE3/2 -> #REF! | AJ3: 377.52 | AK3: =AL3/1.18 -> #REF! | AL3: =#REF!-AJ3 -> #REF! | AM3: =AK3/2 -> #REF! | AN3: =AF3-AL3-AJ3 -> #REF! | AT3: =W3-AJ3 -> #REF!
A4: =A3+1 -> 3 | B4: =#REF! -> #REF! | C4: =#REF! -> #REF! | D4: =#REF! -> #REF! | G4: =#REF! -> #REF! | H4: =#REF! -> #REF! | I4: =#REF! -> #REF! | J4: =#REF! -> #REF! | K4: =J4*50 -> #REF! | P4: =#REF! -> #REF! | Q4: =R4*P4 -> #REF! | R4: =#REF!+I4 -> #REF! | T4: =#REF! -> #REF! | U4: =R4+T4 -> #REF! | V4: =U4*0.18 -> #REF! | W4: =U4*16.5/1000 -> #REF! | X4: =U4+V4+W4 -> #REF! | Y4: =#REF!+#REF!+#REF!+#REF!+#REF! -> #REF! | Z4: =#REF!+#REF!+#REF!+#REF!+#REF! -> #REF! | AA4: =#REF! -> #REF! | AB4: =#REF! -> #REF! | AD4: =AC4*1.18 -> 0 | AE4: =U4+Y4+AA4+AC4 -> #REF! | AF4: =X4+Z4+AB4+AD4 -> #REF! | AI4: =AE4/2 -> #REF! | AJ4: 484.44 | AK4: =AL4/1.18 -> #REF! | AL4: =#REF!-AJ4 -> #REF! | AM4: =AK4/2 -> #REF! | AN4: =AF4-AL4-AJ4 -> #REF! | AT4: =W4-AJ4 -> #REF!
A5: =A4+1 -> 4 | B5: =#REF! -> #REF! | C5: =#REF! -> #REF! | D5: =#REF! -> #REF! | G5: =#REF! -> #REF! | H5: =#REF! -> #REF! | I5: =#REF! -> #REF! | J5: =#REF! -> #REF! | K5: =J5*50 -> #REF! | P5: =#REF! -> #REF! | Q5: =R5*P5 -> #REF! | R5: =#REF!+I5 -> #REF! | T5: =#REF! -> #REF! | U5: =R5+T5 -> #REF! | V5: =U5*0.18 -> #REF! | W5: =(U5*16.5/1000)+252.78 -> #REF! | X5: =U5+V5+W5 -> #REF! | Y5: =#REF!+#REF!+#REF!+#REF!+#REF! -> #REF! | Z5: =#REF!+#REF!+#REF!+#REF!+#REF! -> #REF! | AA5: =#REF! -> #REF! | AB5: =#REF! -> #REF! | AD5: =AC5*1.18 -> 0 | AE5: =U5+Y5+AA5+AC5 -> #REF! | AF5: =X5+Z5+AB5+AD5 -> #REF! | AI5: =AE5/2 -> #REF! | AJ5: =(451/1.782)+216.83 -> 469.91642 | AK5: =AL5/1.18 -> #REF! | AL5: =#REF!-AJ5 -> #REF! | AM5: =AK5/2 -> #REF! | AN5: =AF5-AL5-AJ5 -> #REF! | AT5: =W5-AJ5 -> #REF!
A6: =A5+1 -> 5 | B6: =#REF! -> #REF! | C6: =#REF! -> #REF! | D6: =#REF! -> #REF! | G6: =#REF! -> #REF! | H6: =#REF! -> #REF! | I6: =#REF! -> #REF! | J6: =#REF! -> #REF! | K6: =J6*50 -> #REF! | P6: =#REF! -> #REF! | Q6: =R6*P6 -> #REF! | R6: =#REF!+I6 -> #REF! | T6: =#REF! -> #REF! | U6: =R6+T6 -> #REF! | V6: =U6*0.18 -> #REF! | W6: =U6*16.5/1000 -> #REF! | X6: =U6+V6+W6 -> #REF! | Y6: =#REF!+#REF!+#REF!+#REF!+#REF! -> #REF! | Z6: =#REF!+#REF!+#REF!+#REF!+#REF! -> #REF! | AA6: =#REF! -> #REF! | AB6: =#REF! -> #REF! | AD6: =AC6*1.18 -> 0 | AE6: =U6+Y6+AA6+AC6 -> #REF! | AF6: =X6+Z6+AB6+AD6 -> #REF! | AI6: =AE6/2 -> #REF! | AJ6: 644.82 | AK6: =AL6/1.18 -> #REF! | AL6: =#REF!-AJ6 -> #REF! | AM6: =AK6/2 -> #REF! | AN6: =AF6-AL6-AJ6 -> #REF! | AT6: =W6-AJ6 -> #REF!
A7: =A6+1 -> 6 | B7: =#REF! -> #REF! | C7: =#REF! -> #REF! | D7: =#REF! -> #REF! | G7: =#REF! -> #REF! | H7: =#REF! -> #REF! | I7: =#REF! -> #REF! | J7: =#REF! -> #REF! | K7: =J7*50 -> #REF! | P7: =#REF! -> #REF! | Q7: =R7*P7 -> #REF! | R7: =#REF!+I7 -> #REF! | T7: =#REF! -> #REF! | U7: =R7+T7 -> #REF! | V7: =U7*0.18 -> #REF! | W7: =U7*16.5/1000 -> #REF! | X7: =U7+V7+W7 -> #REF! | Y7: =#REF!+#REF!+#REF!+#REF!+#REF! -> #REF! | Z7: =#REF!+#REF!+#REF!+#REF!+#REF! -> #REF! | AA7: =#REF! -> #REF! | AB7: =#REF! -> #REF! | AD7: =AC7*1.18 -> 0 | AE7: =U7+Y7+AA7+AC7 -> #REF! | AF7: =X7+Z7+AB7+AD7 -> #REF! | AI7: =AE7/2 -> #REF! | AJ7: 493.35 | AK7: =AL7/1.18 -> #REF! | AL7: =#REF!-AJ7 -> #REF! | AM7: =AK7/2 -> #REF! | AN7: =AF7-AL7-AJ7 -> #REF! | AT7: =W7-AJ7 -> #REF!
A8: =A7+1 -> 7 | B8: =#REF! -> #REF! | C8: =#REF! -> #REF! | D8: =#REF! -> #REF! | G8: =#REF! -> #REF! | H8: =#REF! -> #REF! | I8: =#REF! -> #REF! | J8: =#REF! -> #REF! | K8: =J8*50 -> #REF! | P8: =#REF! -> #REF! | Q8: =R8*P8 -> #REF! | R8: =#REF!+I8 -> #REF! | T8: =#REF! -> #REF! | U8: =R8+T8 -> #REF! | V8: =U8*0.18 -> #REF! | W8: =U8*16.5/1000 -> #REF! | X8: =U8+V8+W8 -> #REF! | Y8: =#REF!+#REF!+#REF!+#REF!+#REF! -> #REF! | Z8: =#REF!+#REF!+#REF!+#REF!+#REF! -> #REF! | AA8: =#REF! -> #REF! | AB8: =#REF! -> #REF! | AD8: =AC8*1.18 -> 0 | AE8: =U8+Y8+AA8+AC8 -> #REF! | AF8: =X8+Z8+AB8+AD8 -> #REF! | AI8: =AE8/2 -> #REF! | AJ8: 270.6 | AK8: =AL8/1.18 -> #REF! | AL8: =#REF!-AJ8 -> #REF! | AM8: =AK8/2 -> #REF! | AN8: =AF8-AL8-AJ8 -> #REF! | AT8: =W8-AJ8 -> #REF!
A9: =A8+1 -> 8 | B9: =#REF! -> #REF! | C9: =#REF! -> #REF! | D9: =#REF! -> #REF! | G9: =#REF! -> #REF! | H9: =#REF! -> #REF! | I9: =#REF! -> #REF! | J9: =#REF! -> #REF! | K9: =J9*50 -> #REF! | P9: =#REF! -> #REF! | Q9: =R9*P9 -> #REF! | R9: =#REF!+I9 -> #REF! | T9: =#REF! -> #REF! | U9: =R9+T9 -> #REF! | V9: =U9*0.18 -> #REF! | W9: =U9*16.5/1000 -> #REF! | X9: =U9+V9+W9 -> #REF! | Y9: =#REF!+#REF!+#REF!+#REF!+#REF! -> #REF! | Z9: =#REF!+#REF!+#REF!+#REF!+#REF! -> #REF! | AA9: =#REF! -> #REF! | AB9: =#REF! -> #REF! | AD9: =AC9*1.18 -> 0 | AE9: =U9+Y9+AA9+AC9 -> #REF! | AF9: =X9+Z9+AB9+AD9 -> #REF! | AI9: =AE9/2 -> #REF! | AJ9: 965.58 | AK9: =AL9/1.18 -> #REF! | AL9: =#REF!-AJ9 -> #REF! | AM9: =AK9/2 -> #REF! | AN9: =AF9-AL9-AJ9 -> #REF! | AT9: =W9-AJ9 -> #REF!
A10: =A9+1 -> 9 | B10: =#REF! -> #REF! | C10: =#REF! -> #REF! | D10: =#REF! -> #REF! | G10: =#REF! -> #REF! | H10: =#REF! -> #REF! | I10: =#REF! -> #REF! | J10: =#REF! -> #REF! | K10: =J10*50 -> #REF! | P10: =#REF! -> #REF! | Q10: =R10*P10 -> #REF! | R10: =#REF!+I10 -> #REF! | T10: =#REF! -> #REF! | U10: =R10+T10 -> #REF! | V10: =U10*0.18 -> #REF! | W10: =U10*16.5/1000 -> #REF! | X10: =U10+V10+W10 -> #REF! | Y10: =#REF!+#REF!+#REF!+#REF!+#REF! -> #REF! | Z10: =#REF!+#REF!+#REF!+#REF!+#REF! -> #REF! | AA10: =#REF! -> #REF! | AB10: =#REF! -> #REF! | AD10: =AC10*1.18 -> 0 | AE10: =U10+Y10+AA10+AC10 -> #REF! | AF10: =X10+Z10+AB10+AD10 -> #REF! | AI10: =AE10/2 -> #REF! | AJ10: 359.7 | AK10: =AL10/1.18 -> #REF! | AL10: =#REF!-AJ10 -> #REF! | AM10: =AK10/2 -> #REF! | AN10: =AF10-AL10-AJ10 -> #REF! | AT10: =W10-AJ10 -> #REF!
A11: =A10+1 -> 10 | B11: =#REF! -> #REF! | C11: =#REF! -> #REF! | D11: =#REF! -> #REF! | G11: =#REF! -> #REF! | H11: =#REF! -> #REF! | I11: =#REF! -> #REF! | J11: =#REF! -> #REF! | K11: =J11*50 -> #REF! | P11: =#REF! -> #REF! | Q11: =R11*P11 -> #REF! | R11: =#REF!+I11 -> #REF! | T11: =#REF! -> #REF! | U11: =R11+T11 -> #REF! | V11: =U11*0.18 -> #REF! | W11: =U11*16.5/1000 -> #REF! | X11: =U11+V11+W11 -> #REF! | Y11: =#REF!+#REF!+#REF!+#REF!+#REF! -> #REF! | Z11: =#REF!+#REF!+#REF!+#REF!+#REF! -> #REF! | AA11: =#REF! -> #REF! | AB11: =#REF! -> #REF! | AD11: =AC11*1.18 -> 0 | AE11: =U11+Y11+AA11+AC11 -> #REF! | AF11: =X11+Z11+AB11+AD11 -> #REF! | AI11: =AE11/2 -> #REF! | AJ11: 350.79 | AK11: =AL11/1.18 -> #REF! | AL11: =#REF!-AJ11 -> #REF! | AM11: =AK11/2 -> #REF! | AN11: =AF11-AL11-AJ11 -> #REF! | AT11: =W11-AJ11 -> #REF!
A12: =A11+1 -> 11 | B12: =#REF! -> #REF! | C12: =#REF! -> #REF! | D12: =#REF! -> #REF! | G12: =#REF! -> #REF! | H12: =#REF! -> #REF! | I12: =#REF! -> #REF! | J12: =#REF! -> #REF! | K12: =J12*50 -> #REF! | P12: =#REF! -> #REF! | Q12: =R12*P12 -> #REF! | R12: =#REF!+I12 -> #REF! | T12: =#REF! -> #REF! | U12: =R12+T12 -> #REF! | V12: =U12*0.18 -> #REF! | W12: =U12*16.5/1000 -> #REF! | X12: =U12+V12+W12 -> #REF! | Y12: =#REF!+#REF!+#REF!+#REF!+#REF! -> #REF! | Z12: =#REF!+#REF!+#REF!+#REF!+#REF! -> #REF! | AA12: =#REF! -> #REF! | AB12: =#REF! -> #REF! | AD12: =AC12*1.18 -> 0 | AE12: =U12+Y12+AA12+AC12 -> #REF! | AF12: =X12+Z12+AB12+AD12 -> #REF! | AI12: =AE12/2 -> #REF! | AJ12: 279.51 | AK12: =AL12/1.18 -> #REF! | AL12: =#REF!-AJ12 -> #REF! | AM12: =AK12/2 -> #REF! | AN12: =AF12-AL12-AJ12 -> #REF! | AT12: =W12-AJ12 -> #REF!
A13: =A12+1 -> 12 | B13: =#REF! -> #REF! | C13: =#REF! -> #REF! | D13: =#REF! -> #REF! | G13: =#REF! -> #REF! | H13: =#REF! -> #REF! | I13: =#REF! -> #REF! | J13: =#REF! -> #REF! | K13: =J13*50 -> #REF! | P13: =#REF! -> #REF! | Q13: =R13*P13 -> #REF! | R13: =#REF!+I13 -> #REF! | T13: =#REF! -> #REF! | U13: =R13+T13 -> #REF! | V13: =U13*0.18 -> #REF! | W13: =U13*16.5/1000 -> #REF! | X13: =U13+V13+W13 -> #REF! | Y13: =#REF!+#REF!+#REF!+#REF!+#REF! -> #REF! | Z13: =#REF!+#REF!+#REF!+#REF!+#REF! -> #REF! | AA13: =#REF! -> #REF! | AB13: =#REF! -> #REF! | AD13: =AC13*1.18 -> 0 | AE13: =U13+Y13+AA13+AC13 -> #REF! | AF13: =X13+Z13+AB13+AD13 -> #REF! | AI13: =AE13/2 -> #REF! | AJ13: =799.67/1.7818 -> 448.79897 | AK13: =AL13/1.18 -> #REF! | AL13: =#REF!-AJ13 -> #REF! | AM13: =AK13/2 -> #REF! | AN13: =AF13-AL13-AJ13 -> #REF! | AT13: =W13-AJ13 -> #REF!
A14: =A13+1 -> 13 | B14: =#REF! -> #REF! | C14: =#REF! -> #REF! | D14: =#REF! -> #REF! | G14: =#REF! -> #REF! | H14: =#REF! -> #REF! | I14: =#REF! -> #REF! | J14: =#REF! -> #REF! | K14: =J14*50 -> #REF! | P14: =#REF! -> #REF! | Q14: =R14*P14 -> #REF! | R14: =#REF!+I14 -> #REF! | T14: =#REF! -> #REF! | U14: =R14+T14 -> #REF! | V14: =U14*0.18 -> #REF! | W14: =U14*16.5/1000 -> #REF! | X14: =U14+V14+W14 -> #REF! | Y14: =#REF!+#REF!+#REF!+#REF!+#REF! -> #REF! | Z14: =#REF!+#REF!+#REF!+#REF!+#REF! -> #REF! | AA14: =#REF! -> #REF! | AB14: =#REF! -> #REF! | AD14: =AC14*1.18 -> 0 | AE14: =U14+Y14+AA14+AC14 -> #REF! | AF14: =X14+Z14+AB14+AD14 -> #REF! | AI14: =AE14/2 -> #REF! | AJ14: 377.52 | AK14: =AL14/1.18 -> #REF! | AL14: =#REF!-AJ14 -> #REF! | AM14: =AK14/2 -> #REF! | AN14: =AF14-AL14-AJ14 -> #REF! | AT14: =W14-AJ14 -> #REF!
A15: =A14+1 -> 14 | B15: =#REF! -> #REF! | C15: =#REF! -> #REF! | D15: =#REF! -> #REF! | G15: =#REF! -> #REF! | H15: =#REF! -> #REF! | I15: =#REF! -> #REF! | J15: =#REF! -> #REF! | K15: =J15*50 -> #REF! | P15: =#REF! -> #REF! | Q15: =R15*P15 -> #REF! | R15: =#REF!+I15 -> #REF! | T15: =#REF! -> #REF! | U15: =R15+T15 -> #REF! | V15: =U15*0.18 -> #REF! | W15: =U15*16.5/1000 -> #REF! | X15: =U15+V15+W15 -> #REF! | Y15: =#REF!+#REF!+#REF!+#REF!+#REF! -> #REF! | Z15: =#REF!+#REF!+#REF!+#REF!+#REF! -> #REF! | AA15: =#REF! -> #REF! | AB15: =#REF! -> #REF! | AD15: =AC15*1.18 -> 0 | AE15: =U15+Y15+AA15+AC15 -> #REF! | AF15: =X15+Z15+AB15+AD15 -> #REF! | AI15: =AE15/2 -> #REF! | AJ15: =293.4/1.7925 -> 163.68201 | AK15: =AL15/1.18 -> #REF! | AL15: =#REF!-AJ15 -> #REF! | AM15: =AK15/2 -> #REF! | AN15: =AF15-AL15-AJ15 -> #REF! | AT15: =W15-AJ15 -> #REF!
A16: =A15+1 -> 15 | B16: =#REF! -> #REF! | C16: =#REF! -> #REF! | D16: =#REF! -> #REF! | G16: =#REF! -> #REF! | H16: =#REF! -> #REF! | I16: =#REF! -> #REF! | J16: =#REF! -> #REF! | K16: =J16*50 -> #REF! | P16: =#REF! -> #REF! | Q16: =R16*P16 -> #REF! | R16: =#REF!+I16 -> #REF! | T16: =#REF! -> #REF! | U16: =R16+T16 -> #REF! | V16: =U16*0.18 -> #REF! | W16: =U16*16.5/1000 -> #REF! | X16: =U16+V16+W16 -> #REF! | Y16: =#REF!+#REF!+#REF!+#REF!+#REF! -> #REF! | Z16: =#REF!+#REF!+#REF!+#REF!+#REF! -> #REF! | AA16: =#REF! -> #REF! | AB16: =#REF! -> #REF! | AD16: =AC16*1.18 -> 0 | AE16: =U16+Y16+AA16+AC16 -> #REF! | AF16: =X16+Z16+AB16+AD16 -> #REF! | AI16: =AE16/2 -> #REF! | AJ16: =872.57/1.8012 -> 484.43815 | AK16: =AL16/1.18 -> #REF! | AL16: =#REF!-AJ16 -> #REF! | AM16: =AK16/2 -> #REF! | AN16: =AF16-AL16-AJ16 -> #REF! | AT16: =W16-AJ16 -> #REF!
A17: =A16+1 -> 16 | B17: =#REF! -> #REF! | C17: =#REF! -> #REF! | D17: =#REF! -> #REF! | G17: =#REF! -> #REF! | H17: =#REF! -> #REF! | I17: =#REF! -> #REF! | J17: =#REF! -> #REF! | K17: =J17*50 -> #REF! | P17: =#REF! -> #REF! | Q17: =R17*P17 -> #REF! | R17: =#REF!+I17 -> #REF! | T17: =#REF! -> #REF! | U17: =R17+T17 -> #REF! | V17: =U17*0.18 -> #REF! | W17: =U17*16.5/1000 -> #REF! | X17: =U17+V17+W17 -> #REF! | Y17: =#REF!+#REF!+#REF!+#REF!+#REF! -> #REF! | Z17: =#REF!+#REF!+#REF!+#REF!+#REF! -> #REF! | AA17: =#REF! -> #REF! | AB17: =#REF! -> #REF! | AD17: =AC17*1.18 -> 0 | AE17: =U17+Y17+AA17+AC17 -> #REF! | AF17: =X17+Z17+AB17+AD17 -> #REF! | AI17: =AE17/2 -> #REF! | AJ17: 181.5 | AK17: =AL17/1.18 -> #REF! | AL17: =#REF!-AJ17 -> #REF! | AM17: =AK17/2 -> #REF! | AN17: =AF17-AL17-AJ17 -> #REF! | AT17: =W17-AJ17 -> #REF!
A18: =A17+1 -> 17 | B18: =#REF! -> #REF! | C18: =#REF! -> #REF! | D18: =#REF! -> #REF! | G18: =#REF! -> #REF! | H18: =#REF! -> #REF! | I18: =#REF! -> #REF! | J18: =#REF! -> #REF! | K18: =J18*50 -> #REF! | P18: =#REF! -> #REF! | Q18: =R18*P18 -> #REF! | R18: =#REF!+I18 -> #REF! | T18: =#REF! -> #REF! | U18: =R18+T18 -> #REF! | V18: =U18*0.18 -> #REF! | W18: =U18*16.5/1000 -> #REF! | X18: =U18+V18+W18 -> #REF! | Y18: =#REF!+#REF!+#REF!+#REF!+#REF! -> #REF! | Z18: =#REF!+#REF!+#REF!+#REF!+#REF! -> #REF! | AA18: =#REF! -> #REF! | AB18: =#REF! -> #REF! | AD18: =AC18*1.18 -> 0 | AE18: =U18+Y18+AA18+AC18 -> #REF! | AF18: =X18+Z18+AB18+AD18 -> #REF! | AI18: =AE18/2 -> #REF! | AJ18: 181.5 | AK18: =AL18/1.18 -> #REF! | AL18: =#REF!-AJ18 -> #REF! | AM18: =AK18/2 -> #REF! | AN18: =AF18-AL18-AJ18 -> #REF! | AT18: =W18-AJ18 -> #REF!
A19: =A18+1 -> 18 | B19: =#REF! -> #REF! | C19: =#REF! -> #REF! | D19: =#REF! -> #REF! | G19: =#REF! -> #REF! | H19: =#REF! -> #REF! | I19: =#REF! -> #REF! | J19: =#REF! -> #REF! | K19: =J19*50 -> #REF! | P19: =#REF! -> #REF! | Q19: =R19*P19 -> #REF! | R19: =#REF!+I19 -> #REF! | T19: =#REF! -> #REF! | U19: =R19+T19 -> #REF! | V19: =U19*0.18 -> #REF! | W19: =U19*16.5/1000 -> #REF! | X19: =U19+V19+W19 -> #REF! | Y19: =#REF!+#REF!+#REF!+#REF!+#REF! -> #REF! | Z19: =#REF!+#REF!+#REF!+#REF!+#REF! -> #REF! | AA19: =#REF! -> #REF! | AB19: =#REF! -> #REF! | AD19: =AC19*1.18 -> 0 | AE19: =U19+Y19+AA19+AC19 -> #REF! | AF19: =X19+Z19+AB19+AD19 -> #REF! | AI19: =AE19/2 -> #REF! | AJ19: =747.86/1.8045 -> 414.44167 | AK19: =AL19/1.18 -> #REF! | AL19: =#REF!-AJ19 -> #REF! | AM19: =AK19/2 -> #REF! | AN19: =AF19-AL19-AJ19 -> #REF! | AT19: =W19-AJ19 -> #REF!
A20: =A19+1 -> 19 | B20: =#REF! -> #REF! | C20: =#REF! -> #REF! | D20: =#REF! -> #REF! | G20: =#REF! -> #REF! | H20: =#REF! -> #REF! | I20: =#REF! -> #REF! | J20: =#REF! -> #REF! | K20: =J20*50 -> #REF! | P20: =#REF! -> #REF! | Q20: =R20*P20 -> #REF! | R20: =#REF!+I20 -> #REF! | T20: =#REF! -> #REF! | U20: =R20+T20 -> #REF! | V20: =U20*0.18 -> #REF! | W20: =U20*16.5/1000 -> #REF! | X20: =U20+V20+W20 -> #REF! | Y20: =#REF!+#REF!+#REF!+#REF!+#REF! -> #REF! | Z20: =#REF!+#REF!+#REF!+#REF!+#REF! -> #REF! | AA20: =#REF! -> #REF! | AB20: =#REF! -> #REF! | AD20: =AC20*1.18 -> 0 | AE20: =U20+Y20+AA20+AC20 -> #REF! | AF20: =X20+Z20+AB20+AD20 -> #REF! | AI20: =AE20/2 -> #REF! | AJ20: =515/1.7921 -> 287.37236 | AK20: =AL20/1.18 -> #REF! | AL20: =#REF!-AJ20 -> #REF! | AM20: =AK20/2 -> #REF! | AN20: =AF20-AL20-AJ20 -> #REF! | AT20: =W20-AJ20 -> #REF!
A21: =A20+1 -> 20 | B21: =#REF! -> #REF! | C21: =#REF! -> #REF! | D21: =#REF! -> #REF! | G21: =#REF! -> #REF! | H21: =#REF! -> #REF! | I21: =#REF! -> #REF! | J21: =#REF! -> #REF! | K21: =J21*50 -> #REF! | P21: =#REF! -> #REF! | Q21: =R21*P21 -> #REF! | R21: =#REF!+I21 -> #REF! | T21: =#REF! -> #REF! | U21: =R21+T21 -> #REF! | V21: =U21*0.18 -> #REF! | W21: =U21*16.5/1000 -> #REF! | X21: =U21+V21+W21 -> #REF! | Y21: =#REF!+#REF!+#REF!+#REF!+#REF! -> #REF! | Z21: =#REF!+#REF!+#REF!+#REF!+#REF! -> #REF! | AA21: =#REF! -> #REF! | AB21: =#REF! -> #REF! | AD21: =AC21*1.18 -> 0 | AE21: =U21+Y21+AA21+AC21 -> #REF! | AF21: =X21+Z21+AB21+AD21 -> #REF! | AI21: =AE21/2 -> #REF! | AJ21: =350.72/1.7713 -> 198.00147 | AK21: =AL21/1.18 -> #REF! | AL21: =#REF!-AJ21 -> #REF! | AM21: =AK21/2 -> #REF! | AN21: =AF21-AL21-AJ21 -> #REF! | AT21: =W21-AJ21 -> #REF!
A22: =A21+1 -> 21 | B22: =#REF! -> #REF! | C22: =#REF! -> #REF! | D22: =#REF! -> #REF! | G22: =#REF! -> #REF! | H22: =#REF! -> #REF! | I22: =#REF! -> #REF! | J22: =#REF! -> #REF! | K22: =J22*50 -> #REF! | P22: =#REF! -> #REF! | Q22: =R22*P22 -> #REF! | R22: =#REF!+I22 -> #REF! | T22: =#REF! -> #REF! | U22: =R22+T22 -> #REF! | V22: =U22*0.18 -> #REF! | W22: =U22*16.5/1000 -> #REF! | X22: =U22+V22+W22 -> #REF! | Y22: =#REF!+#REF!+#REF!+#REF!+#REF! -> #REF! | Z22: =#REF!+#REF!+#REF!+#REF!+#REF! -> #REF! | AA22: =#REF! -> #REF! | AB22: =#REF! -> #REF! | AD22: =AC22*1.18 -> 0 | AE22: =U22+Y22+AA22+AC22 -> #REF! | AF22: =X22+Z22+AB22+AD22 -> #REF! | AI22: =AE22/2 -> #REF! | AJ22: =728.18/1.8013 -> 404.25248 | AK22: =AL22/1.18 -> #REF! | AL22: =#REF!-AJ22 -> #REF! | AM22: =AK22/2 -> #REF! | AN22: =AF22-AL22-AJ22 -> #REF! | AT22: =W22-AJ22 -> #REF!
A23: =A22+1 -> 22 | B23: =#REF! -> #REF! | C23: =#REF! -> #REF! | D23: =#REF! -> #REF! | G23: =#REF! -> #REF! | H23: =#REF! -> #REF! | I23: =#REF! -> #REF! | J23: =#REF! -> #REF! | K23: =J23*50 -> #REF! | P23: =#REF! -> #REF! | Q23: =R23*P23 -> #REF! | R23: =#REF!+I23 -> #REF! | T23: =#REF! -> #REF! | U23: =R23+T23 -> #REF! | V23: =U23*0.18 -> #REF! | W23: =U23*16.5/1000 -> #REF! | X23: =U23+V23+W23 -> #REF! | Y23: =#REF!+#REF!+#REF!+#REF!+#REF! -> #REF! | Z23: =#REF!+#REF!+#REF!+#REF!+#REF! -> #REF! | AA23: =#REF! -> #REF! | AB23: =#REF! -> #REF! | AD23: =AC23*1.18 -> 0 | AE23: =U23+Y23+AA23+AC23 -> #REF! | AF23: =X23+Z23+AB23+AD23 -> #REF! | AI23: =AE23/2 -> #REF! | AJ23: 644.82 | AK23: =AL23/1.18 -> #REF! | AL23: =#REF!-AJ23 -> #REF! | AM23: =AK23/2 -> #REF! | AN23: =AF23-AL23-AJ23 -> #REF! | AT23: =W23-AJ23 -> #REF!
A24: =A23+1 -> 23 | B24: =#REF! -> #REF! | C24: =#REF! -> #REF! | D24: =#REF! -> #REF! | G24: =#REF! -> #REF! | H24: =#REF! -> #REF! | I24: =#REF! -> #REF! | J24: =#REF! -> #REF! | K24: =J24*50 -> #REF! | P24: =#REF! -> #REF! | Q24: =R24*P24 -> #REF! | R24: =#REF!+I24 -> #REF! | T24: =#REF! -> #REF! | U24: =R24+T24 -> #REF! | V24: =U24*0.18 -> #REF! | W24: =U24*16.5/1000 -> #REF! | X24: =U24+V24+W24 -> #REF! | Y24: =#REF!+#REF!+#REF!+#REF!+#REF! -> #REF! | Z24: =#REF!+#REF!+#REF!+#REF!+#REF! -> #REF! | AA24: =#REF! -> #REF! | AB24: =#REF! -> #REF! | AD24: =AC24*1.18 -> 0 | AE24: =U24+Y24+AA24+AC24 -> #REF! | AF24: =X24+Z24+AB24+AD24 -> #REF! | AI24: =AE24/2 -> #REF! | AJ24: 110.22 | AK24: =AL24/1.18 -> #REF! | AL24: =#REF!-AJ24 -> #REF! | AM24: =AK24/2 -> #REF! | AN24: =AF24-AL24-AJ24 -> #REF! | AT24: =W24-AJ24 -> #REF!
A25: =A24+1 -> 24 | B25: =#REF! -> #REF! | C25: =#REF! -> #REF! | D25: =#REF! -> #REF! | G25: =#REF! -> #REF! | H25: =#REF! -> #REF! | I25: =#REF! -> #REF! | J25: =#REF! -> #REF! | K25: =J25*50 -> #REF! | P25: =#REF! -> #REF! | Q25: =R25*P25 -> #REF! | R25: =#REF!+I25 -> #REF! | T25: =#REF! -> #REF! | U25: =R25+T25 -> #REF! | V25: =U25*0.18 -> #REF! | W25: =U25*16.5/1000 -> #REF! | X25: =U25+V25+W25 -> #REF! | Y25: =#REF!+#REF!+#REF!+#REF!+#REF! -> #REF! | Z25: =#REF!+#REF!+#REF!+#REF!+#REF! -> #REF! | AA25: =#REF! -> #REF! | AB25: =#REF! -> #REF! | AD25: =AC25*1.18 -> 0 | AE25: =U25+Y25+AA25+AC25 -> #REF! | AF25: =X25+Z25+AB25+AD25 -> #REF! | AI25: =AE25/2 -> #REF! | AJ25: =197.53/1.8034+(1.25/1.8161) -> 110.22028 | AK25: =AL25/1.18 -> #REF! | AL25: =#REF!-AJ25 -> #REF! | AM25: =AK25/2 -> #REF! | AN25: =AF25-AL25-AJ25 -> #REF! | AT25: =W25-AJ25 -> #REF!
A26: =A25+1 -> 25 | B26: =#REF! -> #REF! | C26: =#REF! -> #REF! | D26: =#REF! -> #REF! | G26: =#REF! -> #REF! | H26: =#REF! -> #REF! | I26: =#REF! -> #REF! | J26: =#REF! -> #REF! | K26: =J26*50 -> #REF! | P26: =#REF! -> #REF! | Q26: =R26*P26 -> #REF! | R26: =#REF!+I26 -> #REF! | T26: =#REF! -> #REF! | U26: =R26+T26 -> #REF! | V26: =U26*0.18 -> #REF! | W26: =U26*16.5/1000 -> #REF! | X26: =U26+V26+W26 -> #REF! | Y26: =#REF!+#REF!+#REF!+#REF!+#REF! -> #REF! | Z26: =#REF!+#REF!+#REF!+#REF!+#REF! -> #REF! | AA26: =#REF! -> #REF! | AB26: =#REF! -> #REF! | AD26: =AC26*1.18 -> 0 | AE26: =U26+Y26+AA26+AC26 -> #REF! | AF26: =X26+Z26+AB26+AD26 -> #REF! | AI26: =AE26/2 -> #REF! | AJ26: =166.9/1.8063 -> 92.398826 | AK26: =AL26/1.18 -> #REF! | AL26: =#REF!-AJ26 -> #REF! | AM26: =AK26/2 -> #REF! | AN26: =AF26-AL26-AJ26 -> #REF! | AT26: =W26-AJ26 -> #REF!
A27: =A26+1 -> 26 | B27: =#REF! -> #REF! | C27: =#REF! -> #REF! | D27: =#REF! -> #REF! | G27: =#REF! -> #REF! | H27: =#REF! -> #REF! | I27: =#REF! -> #REF! | J27: =#REF! -> #REF! | K27: =J27*50 -> #REF! | P27: =#REF! -> #REF! | Q27: =R27*P27 -> #REF! | R27: =#REF!+I27 -> #REF! | T27: =#REF! -> #REF! | U27: =R27+T27 -> #REF! | V27: =U27*0.18 -> #REF! | W27: =U27*16.5/1000 -> #REF! | X27: =U27+V27+W27 -> #REF! | Y27: =#REF!+#REF!+#REF!+#REF!+#REF! -> #REF! | Z27: =#REF!+#REF!+#REF!+#REF!+#REF! -> #REF! | AA27: =#REF! -> #REF! | AB27: =#REF! -> #REF! | AD27: =AC27*1.18 -> 0 | AE27: =U27+Y27+AA27+AC27 -> #REF! | AF27: =X27+Z27+AB27+AD27 -> #REF! | AI27: =AE27/2 -> #REF! | AJ27: 324.06 | AK27: =AL27/1.18 -> #REF! | AL27: =#REF!-AJ27 -> #REF! | AM27: =AK27/2 -> #REF! | AN27: =AF27-AL27-AJ27 -> #REF! | AT27: =W27-AJ27 -> #REF!
A28: =A27+1 -> 27 | B28: =#REF! -> #REF! | C28: =#REF! -> #REF! | D28: =#REF! -> #REF! | G28: =#REF! -> #REF! | H28: =#REF! -> #REF! | I28: =#REF! -> #REF! | J28: =#REF! -> #REF! | K28: =J28*50 -> #REF! | P28: =#REF! -> #REF! | Q28: =R28*P28 -> #REF! | R28: =#REF!+I28 -> #REF! | T28: =#REF! -> #REF! | U28: =R28+T28 -> #REF! | V28: =U28*0.18 -> #REF! | W28: =U28*16.5/1000 -> #REF! | X28: =U28+V28+W28 -> #REF! | Y28: =#REF!+#REF!+#REF!+#REF!+#REF! -> #REF! | Z28: =#REF!+#REF!+#REF!+#REF!+#REF! -> #REF! | AA28: =#REF! -> #REF! | AB28: =#REF! -> #REF! | AD28: =AC28*1.18 -> 0 | AE28: =U28+Y28+AA28+AC28 -> #REF! | AF28: =X28+Z28+AB28+AD28 -> #REF! | AI28: =AE28/2 -> #REF! | AJ28: 377.52 | AK28: =AL28/1.18 -> #REF! | AL28: =#REF!-AJ28 -> #REF! | AM28: =AK28/2 -> #REF! | AN28: =AF28-AL28-AJ28 -> #REF! | AT28: =W28-AJ28 -> #REF!
A29: =A28+1 -> 28 | B29: =#REF! -> #REF! | C29: =#REF! -> #REF! | D29: =#REF! -> #REF! | G29: =#REF! -> #REF! | H29: =#REF! -> #REF! | I29: =#REF! -> #REF! | J29: =#REF! -> #REF! | K29: =J29*50 -> #REF! | P29: =#REF! -> #REF! | Q29: =R29*P29 -> #REF! | R29: =#REF!+I29 -> #REF! | T29: =#REF! -> #REF! | U29: =R29+T29 -> #REF! | V29: =U29*0.18 -> #REF! | W29: =U29*16.5/1000 -> #REF! | X29: =U29+V29+W29 -> #REF! | Y29: =#REF!+#REF!+#REF!+#REF!+#REF! -> #REF! | Z29: =#REF!+#REF!+#REF!+#REF!+#REF! -> #REF! | AA29: =#REF! -> #REF! | AB29: =#REF! -> #REF! | AD29: =AC29*1.18 -> 0 | AE29: =U29+Y29+AA29+AC29 -> #REF! | AF29: =X29+Z29+AB29+AD29 -> #REF! | AI29: =AE29/2 -> #REF! | AJ29: =483.44 -> 483.44 | AK29: =AL29/1.18 -> #REF! | AL29: =#REF!-AJ29 -> #REF! | AM29: =AK29/2 -> #REF! | AN29: =AF29-AL29-AJ29 -> #REF! | AT29: =W29-AJ29 -> #REF!
A30: =A29+1 -> 29 | B30: =#REF! -> #REF! | C30: =#REF! -> #REF! | D30: =#REF! -> #REF! | G30: =#REF! -> #REF! | H30: =#REF! -> #REF! | I30: =#REF! -> #REF! | J30: =#REF! -> #REF! | K30: =J30*50 -> #REF! | P30: =#REF! -> #REF! | Q30: =R30*P30 -> #REF! | R30: =#REF!+I30 -> #REF! | T30: =#REF! -> #REF! | U30: =R30+T30 -> #REF! | V30: =U30*0.18 -> #REF! | W30: =(12000*16.5/1000)+(9720*18.96/1000) -> 382.2912 | X30: =U30+V30+W30 -> #REF! | Y30: =#REF!+#REF!+#REF!+#REF!+#REF! -> #REF! | Z30: =#REF!+#REF!+#REF!+#REF!+#REF! -> #REF! | AA30: =#REF! -> #REF! | AB30: =#REF! -> #REF! | AD30: =AC30*1.18 -> 0 | AE30: =U30+Y30+AA30+AC30 -> #REF! | AF30: =X30+Z30+AB30+AD30 -> #REF! | AI30: =AE30/2 -> #REF! | AJ30: =(352.8/1.7818)+184.29 -> 382.29202 | AK30: =AL30/1.18 -> #REF! | AL30: =#REF!-AJ30 -> #REF! | AM30: =AK30/2 -> #REF! | AN30: =AF30-AL30-AJ30 -> #REF! | AT30: =W30-AJ30 -> -0.00082042878
A31: =A30+1 -> 30 | B31: =#REF! -> #REF! | C31: =#REF! -> #REF! | D31: =#REF! -> #REF! | G31: =#REF! -> #REF! | H31: =#REF! -> #REF! | I31: =#REF! -> #REF! | J31: =#REF! -> #REF! | K31: =J31*50 -> #REF! | P31: =#REF! -> #REF! | Q31: =R31*P31 -> #REF! | R31: =#REF!+I31 -> #REF! | T31: =#REF! -> #REF! | U31: =R31+T31 -> #REF! | V31: =U31*0.18 -> #REF! | W31: =U31*16.5/1000 -> #REF! | X31: =U31+V31+W31 -> #REF! | Y31: =#REF!+#REF!+#REF!+#REF!+#REF! -> #REF! | Z31: =#REF!+#REF!+#REF!+#REF!+#REF! -> #REF! | AA31: =#REF! -> #REF! | AB31: =#REF! -> #REF! | AD31: =AC31*1.18 -> 0 | AE31: =U31+Y31+AA31+AC31 -> #REF! | AF31: =X31+Z31+AB31+AD31 -> #REF! | AI31: =AE31/2 -> #REF! | AJ31: =638.82/1.8211 -> 350.78799 | AK31: =AL31/1.18 -> #REF! | AL31: =#REF!-AJ31 -> #REF! | AM31: =AK31/2 -> #REF! | AN31: =AF31-AL31-AJ31 -> #REF! | AT31: =W31-AJ31 -> #REF!
A32: =A31+1 -> 31 | B32: =#REF! -> #REF! | C32: =#REF! -> #REF! | D32: =#REF! -> #REF! | G32: =#REF! -> #REF! | H32: =#REF! -> #REF! | I32: =#REF! -> #REF! | J32: =#REF! -> #REF! | K32: =J32*50 -> #REF! | P32: =#REF! -> #REF! | Q32: =R32*P32 -> #REF! | R32: =#REF!+I32 -> #REF! | T32: =#REF! -> #REF! | U32: =R32+T32 -> #REF! | V32: =U32*0.18 -> #REF! | W32: =U32*16.5/1000 -> #REF! | X32: =U32+V32+W32 -> #REF! | Y32: =#REF!+#REF!+#REF!+#REF!+#REF! -> #REF! | Z32: =#REF!+#REF!+#REF!+#REF!+#REF! -> #REF! | AA32: =#REF! -> #REF! | AB32: =#REF! -> #REF! | AD32: =AC32*1.18 -> 0 | AE32: =U32+Y32+AA32+AC32 -> #REF! | AF32: =X32+Z32+AB32+AD32 -> #REF! | AI32: =AE32/2 -> #REF! | AJ32: =196.56/1.7833 -> 110.22262 | AK32: =AL32/1.18 -> #REF! | AL32: =#REF!-AJ32 -> #REF! | AM32: =AK32/2 -> #REF! | AN32: =AF32-AL32-AJ32 -> #REF! | AT32: =W32-AJ32 -> #REF!
A33: =A32+1 -> 32 | B33: =#REF! -> #REF! | C33: =#REF! -> #REF! | D33: =#REF! -> #REF! | G33: =#REF! -> #REF! | H33: =#REF! -> #REF! | I33: =#REF! -> #REF! | J33: =#REF! -> #REF! | K33: =J33*50 -> #REF! | P33: =#REF! -> #REF! | Q33: =R33*P33 -> #REF! | R33: =#REF!+I33 -> #REF! | T33: =#REF! -> #REF! | U33: =R33+T33 -> #REF! | V33: =U33*0.18 -> #REF! | W33: =U33*16.5/1000 -> #REF! | X33: =U33+V33+W33 -> #REF! | Y33: =#REF!+#REF!+#REF!+#REF!+#REF! -> #REF! | Z33: =#REF!+#REF!+#REF!+#REF!+#REF! -> #REF! | AA33: =#REF! -> #REF! | AB33: =#REF! -> #REF! | AD33: =AC33*1.18 -> 0 | AE33: =U33+Y33+AA33+AC33 -> #REF! | AF33: =X33+Z33+AB33+AD33 -> #REF! | AI33: =AE33/2 -> #REF! | AJ33: 413.16 | AK33: =AL33/1.18 -> #REF! | AL33: =#REF!-AJ33 -> #REF! | AM33: =AK33/2 -> #REF! | AN33: =AF33-AL33-AJ33 -> #REF! | AT33: =W33-AJ33 -> #REF!
A34: =A33+1 -> 33 | B34: =#REF! -> #REF! | C34: =#REF! -> #REF! | D34: =#REF! -> #REF! | G34: =#REF! -> #REF! | H34: =#REF! -> #REF! | I34: =#REF! -> #REF! | J34: =#REF! -> #REF! | K34: =J34*50 -> #REF! | P34: =#REF! -> #REF! | Q34: =R34*P34 -> #REF! | R34: =#REF!+I34 -> #REF! | T34: =#REF! -> #REF! | U34: =R34+T34 -> #REF! | V34: =U34*0.18 -> #REF! | W34: =U34*16.5/1000 -> #REF! | X34: =U34+V34+W34 -> #REF! | Y34: =#REF!+#REF!+#REF!+#REF!+#REF! -> #REF! | Z34: =#REF!+#REF!+#REF!+#REF!+#REF! -> #REF! | AA34: =#REF! -> #REF! | AB34: =#REF! -> #REF! | AD34: =AC34*1.18 -> 0 | AE34: =U34+Y34+AA34+AC34 -> #REF! | AF34: =X34+Z34+AB34+AD34 -> #REF! | AI34: =AE34/2 -> #REF! | AJ34: 155 | AK34: =AL34/1.18 -> #REF! | AL34: =#REF!-AJ34 -> #REF! | AM34: =AK34/2 -> #REF! | AN34: =AF34-AL34-AJ34 -> #REF! | AT34: =W34-AJ34 -> #REF!
A35: =A34+1 -> 34 | B35: =#REF! -> #REF! | C35: =#REF! -> #REF! | D35: =#REF! -> #REF! | G35: =#REF! -> #REF! | H35: =#REF! -> #REF! | I35: =#REF! -> #REF! | J35: =#REF! -> #REF! | K35: =J35*50 -> #REF! | P35: =#REF! -> #REF! | Q35: =R35*P35 -> #REF! | R35: =#REF!+I35 -> #REF! | T35: =#REF! -> #REF! | U35: =R35+T35 -> #REF! | V35: =U35*0.18 -> #REF! | W35: =U35*16.5/1000 -> #REF! | X35: =U35+V35+W35 -> #REF! | Y35: =#REF!+#REF!+#REF!+#REF!+#REF! -> #REF! | Z35: =#REF!+#REF!+#REF!+#REF!+#REF! -> #REF! | AA35: =#REF! -> #REF! | AB35: =#REF! -> #REF! | AD35: =AC35*1.18 -> 0 | AE35: =U35+Y35+AA35+AC35 -> #REF! | AF35: =X35+Z35+AB35+AD35 -> #REF! | AI35: =AE35/2 -> #REF! | AJ35: =762.83/1.77 -> 430.9774 | AK35: =AL35/1.18 -> #REF! | AL35: =#REF!-AJ35 -> #REF! | AM35: =AK35/2 -> #REF! | AN35: =AF35-AL35-AJ35 -> #REF! | AT35: =W35-AJ35 -> #REF!
A36: =A35+1 -> 35 | B36: =#REF! -> #REF! | C36: =#REF! -> #REF! | D36: =#REF! -> #REF! | G36: =#REF! -> #REF! | H36: 400 | I36: =#REF! -> #REF! | J36: =#REF! -> #REF! | K36: =J36*50 -> #REF! | P36: =#REF! -> #REF! | Q36: =R36*P36 -> #REF! | R36: =#REF!+I36 -> #REF! | T36: =#REF! -> #REF! | U36: =R36+T36 -> #REF! | V36: =U36*0.18 -> #REF! | W36: =(216200*16.5/1000)+(59480*18.96/1000) -> 4695.0408 | X36: =U36+V36+W36 -> #REF! | Y36: =#REF!+#REF!+#REF!+#REF!+#REF! -> #REF! | Z36: =#REF!+#REF!+#REF!+#REF!+#REF! -> #REF! | AA36: =#REF! -> #REF! | AB36: =#REF! -> #REF! | AD36: =AC36*1.18 -> 0 | AE36: =U36+Y36+AA36+AC36 -> #REF! | AF36: =X36+Z36+AB36+AD36 -> #REF! | AI36: =AE36/2 -> #REF! | AJ36: 3567.3 | AK36: =AL36/1.18 -> #REF! | AL36: =#REF!-AJ36 -> #REF! | AM36: =AK36/2 -> #REF! | AN36: =AF36-AL36-AJ36 -> #REF! | AT36: =W36-AJ36 -> 1127.7408
A37: =A36+1 -> 36 | B37: =#REF! -> #REF! | C37: =#REF! -> #REF! | D37: =#REF! -> #REF! | G37: =#REF! -> #REF! | H37: =#REF! -> #REF! | I37: =#REF! -> #REF! | J37: =#REF! -> #REF! | K37: =J37*50 -> #REF! | P37: =#REF! -> #REF! | Q37: =R37*P37 -> #REF! | R37: =#REF!+I37 -> #REF! | T37: =#REF! -> #REF! | U37: =R37+T37 -> #REF! | V37: =U37*0.18 -> #REF! | W37: =U37*16.5/1000 -> #REF! | X37: =U37+V37+W37 -> #REF! | Y37: =#REF!+#REF!+#REF!+#REF!+#REF! -> #REF! | Z37: =#REF!+#REF!+#REF!+#REF!+#REF! -> #REF! | AA37: =#REF! -> #REF! | AB37: =#REF! -> #REF! | AD37: =AC37*1.18 -> 0 | AE37: =U37+Y37+AA37+AC37 -> #REF! | AF37: =X37+Z37+AB37+AD37 -> #REF! | AI37: =AE37/2 -> #REF! | AJ37: 181.5 | AK37: =AL37/1.18 -> #REF! | AL37: =#REF!-AJ37 -> #REF! | AM37: =AK37/2 -> #REF! | AN37: =AF37-AL37-AJ37 -> #REF! | AT37: =W37-AJ37 -> #REF!
A38: =A37+1 -> 37 | B38: =#REF! -> #REF! | C38: =#REF! -> #REF! | D38: =#REF! -> #REF! | G38: =#REF! -> #REF! | H38: =#REF! -> #REF! | I38: =#REF! -> #REF! | J38: =#REF! -> #REF! | K38: =J38*50 -> #REF! | P38: =#REF! -> #REF! | Q38: =R38*P38 -> #REF! | R38: =#REF!+I38 -> #REF! | T38: =#REF! -> #REF! | U38: =R38+T38 -> #REF! | V38: =U38*0.18 -> #REF! | W38: =U38*16.5/1000 -> #REF! | X38: =U38+V38+W38 -> #REF! | Y38: =#REF!+#REF!+#REF!+#REF!+#REF! -> #REF! | Z38: =#REF!+#REF!+#REF!+#REF!+#REF! -> #REF! | AA38: =#REF! -> #REF! | AB38: =#REF! -> #REF! | AD38: =AC38*1.18 -> 0 | AE38: =U38+Y38+AA38+AC38 -> #REF! | AF38: =X38+Z38+AB38+AD38 -> #REF! | AI38: =AE38/2 -> #REF! | AJ38: 564.63 | AK38: =AL38/1.18 -> #REF! | AL38: =#REF!-AJ38 -> #REF! | AM38: =AK38/2 -> #REF! | AN38: =AF38-AL38-AJ38 -> #REF! | AT38: =W38-AJ38 -> #REF!
A39: =A38+1 -> 38 | B39: =#REF! -> #REF! | C39: =#REF! -> #REF! | D39: =#REF! -> #REF! | G39: =#REF! -> #REF! | H39: =#REF! -> #REF! | I39: =#REF! -> #REF! | J39: =#REF! -> #REF! | K39: =J39*50 -> #REF! | P39: =#REF! -> #REF! | Q39: =R39*P39 -> #REF! | R39: =#REF!+I39 -> #REF! | T39: =#REF! -> #REF! | U39: =R39+T39 -> #REF! | V39: =U39*0.18 -> #REF! | W39: =U39*16.5/1000 -> #REF! | X39: =U39+V39+W39 -> #REF! | Y39: =#REF!+#REF!+#REF!+#REF!+#REF! -> #REF! | Z39: =#REF!+#REF!+#REF!+#REF!+#REF! -> #REF! | AA39: =#REF! -> #REF! | AB39: =#REF! -> #REF! | AD39: =AC39*1.18 -> 0 | AE39: =U39+Y39+AA39+AC39 -> #REF! | AF39: =X39+Z39+AB39+AD39 -> #REF! | AI39: =AE39/2 -> #REF! | AJ39: 216.14 | AK39: =AL39/1.18 -> #REF! | AL39: =#REF!-AJ39 -> #REF! | AM39: =AK39/2 -> #REF! | AN39: =AF39-AL39-AJ39 -> #REF! | AT39: =W39-AJ39 -> #REF!
A40: =A39+1 -> 39 | B40: =#REF! -> #REF! | C40: =#REF! -> #REF! | D40: =#REF! -> #REF! | G40: =#REF! -> #REF! | H40: =#REF! -> #REF! | I40: =#REF! -> #REF! | J40: =#REF! -> #REF! | K40: =J40*50 -> #REF! | P40: =#REF! -> #REF! | Q40: =R40*P40 -> #REF! | R40: =#REF!+I40 -> #REF! | T40: =#REF! -> #REF! | U40: =R40+T40 -> #REF! | V40: =U40*0.18 -> #REF! | W40: =U40*16.5/1000 -> #REF! | X40: =U40+V40+W40 -> #REF! | Y40: =#REF!+#REF!+#REF!+#REF!+#REF! -> #REF! | Z40: =#REF!+#REF!+#REF!+#REF!+#REF! -> #REF! | AA40: =#REF! -> #REF! | AB40: =#REF! -> #REF! | AD40: =AC40*1.18 -> 0 | AE40: =U40+Y40+AA40+AC40 -> #REF! | AF40: =X40+Z40+AB40+AD40 -> #REF! | AI40: =AE40/2 -> #REF! | AJ40: 466.62 | AK40: =AL40/1.18 -> #REF! | AL40: =#REF!-AJ40 -> #REF! | AM40: =AK40/2 -> #REF! | AN40: =AF40-AL40-AJ40 -> #REF! | AT40: =W40-AJ40 -> #REF!
...

Sheet TAHSİLATLAR euro çek
B2: IDEF 2011 GERÇEKLEŞEN SATIŞ VE TAHSİLAT RAPORU YTL | DG2: =TODAY() -> 43647
K4: Gerçekleşen Tahsilat ARALIK | R4: Gerçekleşen Tahsilat OCAK | Y4: Gerçekleşen Tahsilat ŞUBAT | AJ4: Gerçekleşen Tahsilat MART | AX4: Gerçekleşen Tahsilat NİSAN | BS4: Gerçekleşen Tahsilat MAYIS | CU4: Gerçekleşen Tahsilat HAZİRAN
B5: SIRA | C5: SÖZLEŞME | E5: TEMSİLCİ / KATILIMCI | K5: Tahsilat Detayı | O5: USD KARŞILIĞI | R5: Tahsilat Detayı | V5: USD KARŞILIĞI | Y5: Tahsilat Detayı | AG5: USD KARŞILIĞI | AJ5: Tahsilat Detayı | AN5: USD KARŞILIĞI | AX5: Tahsilat Detayı | BB5: USD KARŞILIĞI | BE5: Tahsilat Detayı | BI5: USD KARŞILIĞI | BL5: Tahsilat Detayı | BP5: USD KARŞILIĞI | BS5: Tahsilat Detayı | BW5: USD KARŞILIĞI | BZ5: Tahsilat Detayı | CD5: USD KARŞILIĞI | CG5: Tahsilat Detayı | CK5: USD KARŞILIĞI | CN5: Tahsilat Detayı | CR5: USD KARŞILIĞI | CU5: Tahsilat Detayı | CY5: USD KARŞILIĞI | DB5: Toplam Tahsilat | DE5: USD KARŞILIĞI
B6: NO | C6: TARİHİ | E6: ADI | F6: TUTAR | G6: KDV | H6: TOPLAM | I6: Net Toplam | K6: Tarih | L6: Toplam | M6: Tuyap | N6: Vakıf | O6: Toplam | P6: Tuyap | Q6: Vakıf | R6: Tarih | S6: Toplam | T6: Tuyap | U6: Vakıf | V6: Toplam | W6: Tuyap | X6: Vakıf | Y6: Tarih | Z6: Toplam | AA6: Tuyap | AB6: Vakıf | AC6: Tarih | AD6: Toplam | AE6: Tuyap | AF6: Vakıf | AG6: Toplam | AH6: Tuyap | AI6: Vakıf | AJ6: Tarih | AK6: Toplam | AL6: Tuyap | AM6: Vakıf | AN6: Toplam | AO6: Tuyap | AP6: Vakıf | AQ6: Tarih | AR6: Toplam | AS6: Tuyap | AT6: Vakıf | AU6: Toplam | AV6: Tuyap | AW6: Vakıf | AX6: Tarih | AY6: Toplam | AZ6: Tuyap | BA6: Vakıf | BB6: Toplam | BC6: Tuyap | BD6: Vakıf | BE6: Tarih | BF6: Toplam | BG6: Tuyap | BH6: Vakıf | BI6: Toplam | BJ6: Tuyap | BK6: Vakıf | BS6: Tarih | BT6: Toplam | BU6: Tuyap | BV6: Vakıf | BW6: Toplam | BX6: Tuyap | BY6: Vakıf | BZ6: Tarih | CA6: Toplam | CB6: Tuyap | CC6: Vakıf | CD6: Toplam | CE6: Tuyap | CF6: Vakıf | CG6: Tarih | CH6: Toplam | CI6: Tuyap | CJ6: Vakıf | CK6: Toplam | CL6: Tuyap | CM6: Vakıf | CN6: Tarih | CO6: Toplam | CP6: Tuyap | CQ6: Vakıf | CR6: Toplam | CS6: Tuyap | CT6: Vakıf | CU6: Tarih | CV6: Toplam | CW6: Tuyap | CX6: Vakıf | CY6: Toplam | CZ6: Tuyap | DA6: Vakıf | DB6: Toplam Tahsilat | DC6: Tüyap | DD6: Vakıf | DE6: Toplam Tahsilat | DF6: Tüyap | DG6: Vakıf
B7: 1 | C7: =+#REF! -> #REF! | D7: K | E7: =#REF! -> #REF! | F7: =SUMIF(#REF!,$E7,#REF!) -> #REF! | G7: =SUMIF(#REF!,$E7,#REF!) -> #REF! | H7: =+G7+F7 -> #REF! | I7: =H7 -> #REF! | M7: =(L7/1.18)/2+((L7/1.18)*0.18) -> 0 | N7: =(L7/1.18)/2 -> 0 | T7: =(S7/1.18)/2+((S7/1.18)*0.18) -> 0 | U7: =(S7/1.18)/2 -> 0 | AA7: =(Z7/1.18)/2+((Z7/1.18)*0.18) -> 0 | AB7: =(Z7/1.18)/2 -> 0 | AE7: =(AD7/1.18)/2+((AD7/1.18)*0.18) -> 0 | AF7: =(AD7/1.18)/2 -> 0 | AL7: =(AK7/1.18)/2+((AK7/1.18)*0.18) -> 0 | AM7: =(AK7/1.18)/2 -> 0 | AZ7: =(AY7/1.18)/2+((AY7/1.18)*0.18) -> 0 | BA7: =(AY7/1.18)/2 -> 0 | BG7: =(BF7/1.18)/2+((BF7/1.18)*0.18) -> 0 | BH7: =(BF7/1.18)/2 -> 0 | BU7: =(BT7/1.18)/2+((BT7/1.18)*0.18) -> 0 | BV7: =(BT7/1.18)/2 -> 0 | CB7: =(CA7/1.18)/2+((CA7/1.18)*0.18) -> 0 | CC7: =(CA7/1.18)/2 -> 0 | CI7: =(CH7/1.18)/2+((CH7/1.18)*0.18) -> 0 | CJ7: =(CH7/1.18)/2 -> 0 | CP7: =(CO7/1.18)/2+((CO7/1.18)*0.18) -> 0 | CQ7: =(CO7/1.18)/2 -> 0 | CW7: =(CV7/1.18)/2+((CV7/1.18)*0.18) -> 0 | CX7: =(CV7/1.18)/2 -> 0 | DB7: =L7+S7+Z7+AD7+AK7+AY7+BF7+BT7+CA7+CH7+CO7+CV7 -> 0 | DC7: =M7+T7+AA7+AE7+AL7+AZ7+BG7+BU7+CB7+CI7+CP7+CW7 -> 0 | DD7: =N7+U7+AB7+AF7+AM7+BA7+BH7+BV7+CC7+CJ7+CQ7+CX7 -> 0 | DE7: =O7+V7+AG7+AN7+BB7+BI7+BW7+CD7+CK7+CR7+CY7 -> 0 | DF7: =P7+W7+AH7+AO7+BC7+BJ7+BX7+CE7+CL7+CS7+CZ7 -> 0 | DG7: =Q7+X7+AI7+AP7+BD7+BK7+BY7+CF7+CM7+CT7+DA7 -> 0
B8: =B7+1 -> 2 | C8: =+#REF! -> #REF! | D8: K | E8: =#REF! -> #REF! | F8: =SUMIF(#REF!,$E8,#REF!) -> #REF! | G8: =SUMIF(#REF!,$E8,#REF!) -> #REF! | H8: =+G8+F8 -> #REF! | I8: =H8 -> #REF! | M8: =(L8/1.18)/2+((L8/1.18)*0.18) -> 0 | N8: =(L8/1.18)/2 -> 0 | T8: =(S8/1.18)/2+((S8/1.18)*0.18) -> 0 | U8: =(S8/1.18)/2 -> 0 | AA8: =(Z8/1.18)/2+((Z8/1.18)*0.18) -> 0 | AB8: =(Z8/1.18)/2 -> 0 | AE8: =(AD8/1.18)/2+((AD8/1.18)*0.18) -> 0 | AF8: =(AD8/1.18)/2 -> 0 | AL8: =(AK8/1.18)/2+((AK8/1.18)*0.18) -> 0 | AM8: =(AK8/1.18)/2 -> 0 | AZ8: =(AY8/1.18)/2+((AY8/1.18)*0.18) -> 0 | BA8: =(AY8/1.18)/2 -> 0 | BG8: =(BF8/1.18)/2+((BF8/1.18)*0.18) -> 0 | BH8: =(BF8/1.18)/2 -> 0 | BU8: =(BT8/1.18)/2+((BT8/1.18)*0.18) -> 0 | BV8: =(BT8/1.18)/2 -> 0 | CB8: =(CA8/1.18)/2+((CA8/1.18)*0.18) -> 0 | CC8: =(CA8/1.18)/2 -> 0 | CI8: =(CH8/1.18)/2+((CH8/1.18)*0.18) -> 0 | CJ8: =(CH8/1.18)/2 -> 0 | CP8: =(CO8/1.18)/2+((CO8/1.18)*0.18) -> 0 | CQ8: =(CO8/1.18)/2 -> 0 | CW8: =(CV8/1.18)/2+((CV8/1.18)*0.18) -> 0 | CX8: =(CV8/1.18)/2 -> 0 | DB8: =L8+S8+Z8+AD8+AK8+AY8+BF8+BT8+CA8+CH8+CO8+CV8 -> 0 | DC8: =M8+T8+AA8+AE8+AL8+AZ8+BG8+BU8+CB8+CI8+CP8+CW8 -> 0 | DD8: =N8+U8+AB8+AF8+AM8+BA8+BH8+BV8+CC8+CJ8+CQ8+CX8 -> 0 | DE8: =O8+V8+AG8+AN8+BB8+BI8+BW8+CD8+CK8+CR8+CY8 -> 0 | DF8: =P8+W8+AH8+AO8+BC8+BJ8+BX8+CE8+CL8+CS8+CZ8 -> 0 | DG8: =Q8+X8+AI8+AP8+BD8+BK8+BY8+CF8+CM8+CT8+DA8 -> 0
B9: =B8+1 -> 3 | C9: =+#REF! -> #REF! | D9: K | E9: =#REF! -> #REF! | F9: =SUMIF(#REF!,$E9,#REF!) -> #REF! | G9: =SUMIF(#REF!,$E9,#REF!) -> #REF! | H9: =+G9+F9 -> #REF! | I9: =H9 -> #REF! | M9: =(L9/1.18)/2+((L9/1.18)*0.18) -> 0 | N9: =(L9/1.18)/2 -> 0 | T9: =(S9/1.18)/2+((S9/1.18)*0.18) -> 0 | U9: =(S9/1.18)/2 -> 0 | AA9: =(Z9/1.18)/2+((Z9/1.18)*0.18) -> 0 | AB9: =(Z9/1.18)/2 -> 0 | AE9: =(AD9/1.18)/2+((AD9/1.18)*0.18) -> 0 | AF9: =(AD9/1.18)/2 -> 0 | AL9: =(AK9/1.18)/2+((AK9/1.18)*0.18) -> 0 | AM9: =(AK9/1.18)/2 -> 0 | AZ9: =(AY9/1.18)/2+((AY9/1.18)*0.18) -> 0 | BA9: =(AY9/1.18)/2 -> 0 | BG9: =(BF9/1.18)/2+((BF9/1.18)*0.18) -> 0 | BH9: =(BF9/1.18)/2 -> 0 | BN9: =(BM9/1.18)/2+((BM9/1.18)*0.18) -> 0 | BO9: =(BM9/1.18)/2 -> 0 | BU9: =(BT9/1.18)/2+((BT9/1.18)*0.18) -> 0 | BV9: =(BT9/1.18)/2 -> 0 | CB9: =(CA9/1.18)/2+((CA9/1.18)*0.18) -> 0 | CC9: =(CA9/1.18)/2 -> 0 | CI9: =(CH9/1.18)/2+((CH9/1.18)*0.18) -> 0 | CJ9: =(CH9/1.18)/2 -> 0 | CP9: =(CO9/1.18)/2+((CO9/1.18)*0.18) -> 0 | CQ9: =(CO9/1.18)/2 -> 0 | CW9: =(CV9/1.18)/2+((CV9/1.18)*0.18) -> 0 | CX9: =(CV9/1.18)/2 -> 0 | DB9: =L9+S9+Z9+AD9+AK9+AY9+BF9+BT9+CA9+CH9+CO9+CV9+BM9 -> 0 | DC9: =M9+T9+AA9+AE9+AL9+AZ9+BG9+BU9+CB9+CI9+CP9+CW9+BN9 -> 0 | DD9: =N9+U9+AB9+AF9+AM9+BA9+BH9+BV9+CC9+CJ9+CQ9+CX9+BO9 -> 0 | DE9: =O9+V9+AG9+AN9+BB9+BI9+BW9+CD9+CK9+CR9+CY9+BP9 -> 0 | DF9: =P9+W9+AH9+AO9+BC9+BJ9+BX9+CE9+CL9+CS9+CZ9+BQ9 -> 0 | DG9: =Q9+X9+AI9+AP9+BD9+BK9+BY9+CF9+CM9+CT9+DA9+BR9 -> 0
B10: =B9+1 -> 4 | C10: =+#REF! -> #REF! | D10: K | E10: =#REF! -> #REF! | F10: =SUMIF(#REF!,$E10,#REF!) -> #REF! | G10: =SUMIF(#REF!,$E10,#REF!) -> #REF! | H10: =+G10+F10 -> #REF! | I10: =H10 -> #REF! | M10: =(L10/1.18)/2+((L10/1.18)*0.18) -> 0 | N10: =(L10/1.18)/2 -> 0 | T10: =(S10/1.18)/2+((S10/1.18)*0.18) -> 0 | U10: =(S10/1.18)/2 -> 0 | AA10: =(Z10/1.18)/2+((Z10/1.18)*0.18) -> 0 | AB10: =(Z10/1.18)/2 -> 0 | AE10: =(AD10/1.18)/2+((AD10/1.18)*0.18) -> 0 | AF10: =(AD10/1.18)/2 -> 0 | AL10: =(AK10/1.18)/2+((AK10/1.18)*0.18) -> 0 | AM10: =(AK10/1.18)/2 -> 0 | AZ10: =(AY10/1.18)/2+((AY10/1.18)*0.18) -> 0 | BA10: =(AY10/1.18)/2 -> 0 | BG10: =(BF10/1.18)/2+((BF10/1.18)*0.18) -> 0 | BH10: =(BF10/1.18)/2 -> 0 | BN10: =(BM10/1.18)/2+((BM10/1.18)*0.18) -> 0 | BO10: =(BM10/1.18)/2 -> 0 | BU10: =(BT10/1.18)/2+((BT10/1.18)*0.18) -> 0 | BV10: =(BT10/1.18)/2 -> 0 | CB10: =(CA10/1.18)/2+((CA10/1.18)*0.18) -> 0 | CC10: =(CA10/1.18)/2 -> 0 | CI10: =(CH10/1.18)/2+((CH10/1.18)*0.18) -> 0 | CJ10: =(CH10/1.18)/2 -> 0 | CP10: =(CO10/1.18)/2+((CO10/1.18)*0.18) -> 0 | CQ10: =(CO10/1.18)/2 -> 0 | CW10: =(CV10/1.18)/2+((CV10/1.18)*0.18) -> 0 | CX10: =(CV10/1.18)/2 -> 0 | DB10: =L10+S10+Z10+AD10+AK10+AY10+BF10+BT10+CA10+CH10+CO10+CV10+BM10 -> 0 | DC10: =M10+T10+AA10+AE10+AL10+AZ10+BG10+BU10+CB10+CI10+CP10+CW10+BN10 -> 0 | DD10: =N10+U10+AB10+AF10+AM10+BA10+BH10+BV10+CC10+CJ10+CQ10+CX10+BO10 -> 0 | DE10: =O10+V10+AG10+AN10+BB10+BI10+BW10+CD10+CK10+CR10+CY10+BP10 -> 0 | DF10: =P10+W10+AH10+AO10+BC10+BJ10+BX10+CE10+CL10+CS10+CZ10+BQ10 -> 0 | DG10: =Q10+X10+AI10+AP10+BD10+BK10+BY10+CF10+CM10+CT10+DA10+BR10 -> 0
B11: =B10+1 -> 5 | C11: =+#REF! -> #REF! | D11: K | E11: =#REF! -> #REF! | F11: =SUMIF(#REF!,$E11,#REF!) -> #REF! | G11: =SUMIF(#REF!,$E11,#REF!) -> #REF! | H11: =+G11+F11 -> #REF! | I11: =H11 -> #REF! | M11: =(L11/1.18)/2+((L11/1.18)*0.18) -> 0 | N11: =(L11/1.18)/2 -> 0 | T11: =(S11/1.18)/2+((S11/1.18)*0.18) -> 0 | U11: =(S11/1.18)/2 -> 0 | AA11: =(Z11/1.18)/2+((Z11/1.18)*0.18) -> 0 | AB11: =(Z11/1.18)/2 -> 0 | AE11: =(AD11/1.18)/2+((AD11/1.18)*0.18) -> 0 | AF11: =(AD11/1.18)/2 -> 0 | AL11: =(AK11/1.18)/2+((AK11/1.18)*0.18) -> 0 | AM11: =(AK11/1.18)/2 -> 0 | AZ11: =(AY11/1.18)/2+((AY11/1.18)*0.18) -> 0 | BA11: =(AY11/1.18)/2 -> 0 | BG11: =(BF11/1.18)/2+((BF11/1.18)*0.18) -> 0 | BH11: =(BF11/1.18)/2 -> 0 | BU11: =(BT11/1.18)/2+((BT11/1.18)*0.18) -> 0 | BV11: =(BT11/1.18)/2 -> 0 | CB11: =(CA11/1.18)/2+((CA11/1.18)*0.18) -> 0 | CC11: =(CA11/1.18)/2 -> 0 | CI11: =(CH11/1.18)/2+((CH11/1.18)*0.18) -> 0 | CJ11: =(CH11/1.18)/2 -> 0 | CP11: =(CO11/1.18)/2+((CO11/1.18)*0.18) -> 0 | CQ11: =(CO11/1.18)/2 -> 0 | CW11: =(CV11/1.18)/2+((CV11/1.18)*0.18) -> 0 | CX11: =(CV11/1.18)/2 -> 0 | DB11: =L11+S11+Z11+AD11+AK11+AY11+BF11+BT11+CA11+CH11+CO11+CV11 -> 0 | DC11: =M11+T11+AA11+AE11+AL11+AZ11+BG11+BU11+CB11+CI11+CP11+CW11 -> 0 | DD11: =N11+U11+AB11+AF11+AM11+BA11+BH11+BV11+CC11+CJ11+CQ11+CX11 -> 0 | DE11: =O11+V11+AG11+AN11+BB11+BI11+BW11+CD11+CK11+CR11+CY11 -> 0 | DF11: =P11+W11+AH11+AO11+BC11+BJ11+BX11+CE11+CL11+CS11+CZ11 -> 0 | DG11: =Q11+X11+AI11+AP11+BD11+BK11+BY11+CF11+CM11+CT11+DA11 -> 0
B12: =B11+1 -> 6 | C12: =+#REF! -> #REF! | D12: K | E12: =#REF! -> #REF! | F12: =SUMIF(#REF!,$E12,#REF!) -> #REF! | G12: =SUMIF(#REF!,$E12,#REF!) -> #REF! | H12: =+G12+F12 -> #REF! | I12: =H12 -> #REF! | M12: =(L12/1.18)/2+((L12/1.18)*0.18) -> 0 | N12: =(L12/1.18)/2 -> 0 | T12: =(S12/1.18)/2+((S12/1.18)*0.18) -> 0 | U12: =(S12/1.18)/2 -> 0 | AA12: =(Z12/1.18)/2+((Z12/1.18)*0.18) -> 0 | AB12: =(Z12/1.18)/2 -> 0 | AE12: =(AD12/1.18)/2+((AD12/1.18)*0.18) -> 0 | AF12: =(AD12/1.18)/2 -> 0 | AL12: =(AK12/1.18)/2+((AK12/1.18)*0.18) -> 0 | AM12: =(AK12/1.18)/2 -> 0 | AZ12: =(AY12/1.18)/2+((AY12/1.18)*0.18) -> 0 | BA12: =(AY12/1.18)/2 -> 0 | BG12: =(BF12/1.18)/2+((BF12/1.18)*0.18) -> 0 | BH12: =(BF12/1.18)/2 -> 0 | BU12: =(BT12/1.18)/2+((BT12/1.18)*0.18) -> 0 | BV12: =(BT12/1.18)/2 -> 0 | CB12: =(CA12/1.18)/2+((CA12/1.18)*0.18) -> 0 | CC12: =(CA12/1.18)/2 -> 0 | CI12: =(CH12/1.18)/2+((CH12/1.18)*0.18) -> 0 | CJ12: =(CH12/1.18)/2 -> 0 | CP12: =(CO12/1.18)/2+((CO12/1.18)*0.18) -> 0 | CQ12: =(CO12/1.18)/2 -> 0 | CW12: =(CV12/1.18)/2+((CV12/1.18)*0.18) -> 0 | CX12: =(CV12/1.18)/2 -> 0 | DB12: =L12+S12+Z12+AD12+AK12+AY12+BF12+BT12+CA12+CH12+CO12+CV12 -> 0 | DC12: =M12+T12+AA12+AE12+AL12+AZ12+BG12+BU12+CB12+CI12+CP12+CW12 -> 0 | DD12: =N12+U12+AB12+AF12+AM12+BA12+BH12+BV12+CC12+CJ12+CQ12+CX12 -> 0 | DE12: =O12+V12+AG12+AN12+BB12+BI12+BW12+CD12+CK12+CR12+CY12 -> 0 | DF12: =P12+W12+AH12+AO12+BC12+BJ12+BX12+CE12+CL12+CS12+CZ12 -> 0 | DG12: =Q12+X12+AI12+AP12+BD12+BK12+BY12+CF12+CM12+CT12+DA12 -> 0
B13: =B12+1 -> 7 | C13: =+#REF! -> #REF! | D13: K | E13: =#REF! -> #REF! | F13: =SUMIF(#REF!,$E13,#REF!) -> #REF! | G13: =SUMIF(#REF!,$E13,#REF!) -> #REF! | H13: =+G13+F13 -> #REF! | I13: =H13 -> #REF! | M13: =(L13/1.18)/2+((L13/1.18)*0.18) -> 0 | N13: =(L13/1.18)/2 -> 0 | T13: =(S13/1.18)/2+((S13/1.18)*0.18) -> 0 | U13: =(S13/1.18)/2 -> 0 | AA13: =(Z13/1.18)/2+((Z13/1.18)*0.18) -> 0 | AB13: =(Z13/1.18)/2 -> 0 | AE13: =(AD13/1.18)/2+((AD13/1.18)*0.18) -> 0 | AF13: =(AD13/1.18)/2 -> 0 | AL13: =(AK13/1.18)/2+((AK13/1.18)*0.18) -> 0 | AM13: =(AK13/1.18)/2 -> 0 | AZ13: =(AY13/1.18)/2+((AY13/1.18)*0.18) -> 0 | BA13: =(AY13/1.18)/2 -> 0 | BG13: =(BF13/1.18)/2+((BF13/1.18)*0.18) -> 0 | BH13: =(BF13/1.18)/2 -> 0 | BU13: =(BT13/1.18)/2+((BT13/1.18)*0.18) -> 0 | BV13: =(BT13/1.18)/2 -> 0 | CB13: =(CA13/1.18)/2+((CA13/1.18)*0.18) -> 0 | CC13: =(CA13/1.18)/2 -> 0 | CI13: =(CH13/1.18)/2+((CH13/1.18)*0.18) -> 0 | CJ13: =(CH13/1.18)/2 -> 0 | CP13: =(CO13/1.18)/2+((CO13/1.18)*0.18) -> 0 | CQ13: =(CO13/1.18)/2 -> 0 | CW13: =(CV13/1.18)/2+((CV13/1.18)*0.18) -> 0 | CX13: =(CV13/1.18)/2 -> 0 | DB13: =L13+S13+Z13+AD13+AK13+AY13+BF13+BT13+CA13+CH13+CO13+CV13 -> 0 | DC13: =M13+T13+AA13+AE13+AL13+AZ13+BG13+BU13+CB13+CI13+CP13+CW13 -> 0 | DD13: =N13+U13+AB13+AF13+AM13+BA13+BH13+BV13+CC13+CJ13+CQ13+CX13 -> 0 | DE13: =O13+V13+AG13+AN13+BB13+BI13+BW13+CD13+CK13+CR13+CY13 -> 0 | DF13: =P13+W13+AH13+AO13+BC13+BJ13+BX13+CE13+CL13+CS13+CZ13 -> 0 | DG13: =Q13+X13+AI13+AP13+BD13+BK13+BY13+CF13+CM13+CT13+DA13 -> 0
B14: =B13+1 -> 8 | C14: =+#REF! -> #REF! | D14: K | E14: =#REF! -> #REF! | F14: =SUMIF(#REF!,$E14,#REF!) -> #REF! | G14: =SUMIF(#REF!,$E14,#REF!) -> #REF! | H14: =+G14+F14 -> #REF! | I14: =H14 -> #REF! | M14: =(L14/1.18)/2+((L14/1.18)*0.18) -> 0 | N14: =(L14/1.18)/2 -> 0 | T14: =(S14/1.18)/2+((S14/1.18)*0.18) -> 0 | U14: =(S14/1.18)/2 -> 0 | AA14: =(Z14/1.18)/2+((Z14/1.18)*0.18) -> 0 | AB14: =(Z14/1.18)/2 -> 0 | AE14: =(AD14/1.18)/2+((AD14/1.18)*0.18) -> 0 | AF14: =(AD14/1.18)/2 -> 0 | AL14: =(AK14/1.18)/2+((AK14/1.18)*0.18) -> 0 | AM14: =(AK14/1.18)/2 -> 0 | AZ14: =(AY14/1.18)/2+((AY14/1.18)*0.18) -> 0 | BA14: =(AY14/1.18)/2 -> 0 | BG14: =(BF14/1.18)/2+((BF14/1.18)*0.18) -> 0 | BH14: =(BF14/1.18)/2 -> 0 | BU14: =(BT14/1.18)/2+((BT14/1.18)*0.18) -> 0 | BV14: =(BT14/1.18)/2 -> 0 | CB14: =(CA14/1.18)/2+((CA14/1.18)*0.18) -> 0 | CC14: =(CA14/1.18)/2 -> 0 | CI14: =(CH14/1.18)/2+((CH14/1.18)*0.18) -> 0 | CJ14: =(CH14/1.18)/2 -> 0 | CP14: =(CO14/1.18)/2+((CO14/1.18)*0.18) -> 0 | CQ14: =(CO14/1.18)/2 -> 0 | CW14: =(CV14/1.18)/2+((CV14/1.18)*0.18) -> 0 | CX14: =(CV14/1.18)/2 -> 0 | DB14: =L14+S14+Z14+AD14+AK14+AY14+BF14+BT14+CA14+CH14+CO14+CV14 -> 0 | DC14: =M14+T14+AA14+AE14+AL14+AZ14+BG14+BU14+CB14+CI14+CP14+CW14 -> 0 | DD14: =N14+U14+AB14+AF14+AM14+BA14+BH14+BV14+CC14+CJ14+CQ14+CX14 -> 0 | DE14: =O14+V14+AG14+AN14+BB14+BI14+BW14+CD14+CK14+CR14+CY14 -> 0 | DF14: =P14+W14+AH14+AO14+BC14+BJ14+BX14+CE14+CL14+CS14+CZ14 -> 0 | DG14: =Q14+X14+AI14+AP14+BD14+BK14+BY14+CF14+CM14+CT14+DA14 -> 0
B15: =B14+1 -> 9 | C15: =+#REF! -> #REF! | D15: K | E15: =#REF! -> #REF! | F15: =SUMIF(#REF!,$E15,#REF!) -> #REF! | G15: =SUMIF(#REF!,$E15,#REF!) -> #REF! | H15: =+G15+F15 -> #REF! | I15: =H15 -> #REF! | M15: =(L15/1.18)/2+((L15/1.18)*0.18) -> 0 | N15: =(L15/1.18)/2 -> 0 | T15: =(S15/1.18)/2+((S15/1.18)*0.18) -> 0 | U15: =(S15/1.18)/2 -> 0 | AA15: =(Z15/1.18)/2+((Z15/1.18)*0.18) -> 0 | AB15: =(Z15/1.18)/2 -> 0 | AE15: =(AD15/1.18)/2+((AD15/1.18)*0.18) -> 0 | AF15: =(AD15/1.18)/2 -> 0 | AL15: =(AK15/1.18)/2+((AK15/1.18)*0.18) -> 0 | AM15: =(AK15/1.18)/2 -> 0 | AZ15: =(AY15/1.18)/2+((AY15/1.18)*0.18) -> 0 | BA15: =(AY15/1.18)/2 -> 0 | BG15: =(BF15/1.18)/2+((BF15/1.18)*0.18) -> 0 | BH15: =(BF15/1.18)/2 -> 0 | BU15: =(BT15/1.18)/2+((BT15/1.18)*0.18) -> 0 | BV15: =(BT15/1.18)/2 -> 0 | CB15: =(CA15/1.18)/2+((CA15/1.18)*0.18) -> 0 | CC15: =(CA15/1.18)/2 -> 0 | CI15: =(CH15/1.18)/2+((CH15/1.18)*0.18) -> 0 | CJ15: =(CH15/1.18)/2 -> 0 | CP15: =(CO15/1.18)/2+((CO15/1.18)*0.18) -> 0 | CQ15: =(CO15/1.18)/2 -> 0 | CW15: =(CV15/1.18)/2+((CV15/1.18)*0.18) -> 0 | CX15: =(CV15/1.18)/2 -> 0 | DB15: =L15+S15+Z15+AD15+AK15+AY15+BF15+BT15+CA15+CH15+CO15+CV15 -> 0 | DC15: =M15+T15+AA15+AE15+AL15+AZ15+BG15+BU15+CB15+CI15+CP15+CW15 -> 0 | DD15: =N15+U15+AB15+AF15+AM15+BA15+BH15+BV15+CC15+CJ15+CQ15+CX15 -> 0 | DE15: =O15+V15+AG15+AN15+BB15+BI15+BW15+CD15+CK15+CR15+CY15 -> 0 | DF15: =P15+W15+AH15+AO15+BC15+BJ15+BX15+CE15+CL15+CS15+CZ15 -> 0 | DG15: =Q15+X15+AI15+AP15+BD15+BK15+BY15+CF15+CM15+CT15+DA15 -> 0
B16: =B15+1 -> 10 | C16: =+#REF! -> #REF! | D16: K | E16: =#REF! -> #REF! | F16: =SUMIF(#REF!,$E16,#REF!) -> #REF! | G16: =SUMIF(#REF!,$E16,#REF!) -> #REF! | H16: =+G16+F16 -> #REF! | I16: =H16 -> #REF! | M16: =(L16/1.18)/2+((L16/1.18)*0.18) -> 0 | N16: =(L16/1.18)/2 -> 0 | T16: =(S16/1.18)/2+((S16/1.18)*0.18) -> 0 | U16: =(S16/1.18)/2 -> 0 | AA16: =(Z16/1.18)/2+((Z16/1.18)*0.18) -> 0 | AB16: =(Z16/1.18)/2 -> 0 | AE16: =(AD16/1.18)/2+((AD16/1.18)*0.18) -> 0 | AF16: =(AD16/1.18)/2 -> 0 | AL16: =(AK16/1.18)/2+((AK16/1.18)*0.18) -> 0 | AM16: =(AK16/1.18)/2 -> 0 | AZ16: =(AY16/1.18)/2+((AY16/1.18)*0.18) -> 0 | BA16: =(AY16/1.18)/2 -> 0 | BG16: =(BF16/1.18)/2+((BF16/1.18)*0.18) -> 0 | BH16: =(BF16/1.18)/2 -> 0 | BU16: =(BT16/1.18)/2+((BT16/1.18)*0.18) -> 0 | BV16: =(BT16/1.18)/2 -> 0 | CB16: =(CA16/1.18)/2+((CA16/1.18)*0.18) -> 0 | CC16: =(CA16/1.18)/2 -> 0 | CI16: =(CH16/1.18)/2+((CH16/1.18)*0.18) -> 0 | CJ16: =(CH16/1.18)/2 -> 0 | CP16: =(CO16/1.18)/2+((CO16/1.18)*0.18) -> 0 | CQ16: =(CO16/1.18)/2 -> 0 | CW16: =(CV16/1.18)/2+((CV16/1.18)*0.18) -> 0 | CX16: =(CV16/1.18)/2 -> 0 | DB16: =L16+S16+Z16+AD16+AK16+AY16+BF16+BT16+CA16+CH16+CO16+CV16 -> 0 | DC16: =M16+T16+AA16+AE16+AL16+AZ16+BG16+BU16+CB16+CI16+CP16+CW16 -> 0 | DD16: =N16+U16+AB16+AF16+AM16+BA16+BH16+BV16+CC16+CJ16+CQ16+CX16 -> 0 | DE16: =O16+V16+AG16+AN16+BB16+BI16+BW16+CD16+CK16+CR16+CY16 -> 0 | DF16: =P16+W16+AH16+AO16+BC16+BJ16+BX16+CE16+CL16+CS16+CZ16 -> 0 | DG16: =Q16+X16+AI16+AP16+BD16+BK16+BY16+CF16+CM16+CT16+DA16 -> 0
B17: =B16+1 -> 11 | C17: =+#REF! -> #REF! | D17: K | E17: =#REF! -> #REF! | F17: =SUMIF(#REF!,$E17,#REF!) -> #REF! | G17: =SUMIF(#REF!,$E17,#REF!) -> #REF! | H17: =+G17+F17 -> #REF! | I17: =H17 -> #REF! | M17: =(L17/1.18)/2+((L17/1.18)*0.18) -> 0 | N17: =(L17/1.18)/2 -> 0 | T17: =(S17/1.18)/2+((S17/1.18)*0.18) -> 0 | U17: =(S17/1.18)/2 -> 0 | AA17: =(Z17/1.18)/2+((Z17/1.18)*0.18) -> 0 | AB17: =(Z17/1.18)/2 -> 0 | AE17: =(AD17/1.18)/2+((AD17/1.18)*0.18) -> 0 | AF17: =(AD17/1.18)/2 -> 0 | AL17: =(AK17/1.18)/2+((AK17/1.18)*0.18) -> 0 | AM17: =(AK17/1.18)/2 -> 0 | AZ17: =(AY17/1.18)/2+((AY17/1.18)*0.18) -> 0 | BA17: =(AY17/1.18)/2 -> 0 | BG17: =(BF17/1.18)/2+((BF17/1.18)*0.18) -> 0 | BH17: =(BF17/1.18)/2 -> 0 | BU17: =(BT17/1.18)/2+((BT17/1.18)*0.18) -> 0 | BV17: =(BT17/1.18)/2 -> 0 | CB17: =(CA17/1.18)/2+((CA17/1.18)*0.18) -> 0 | CC17: =(CA17/1.18)/2 -> 0 | CI17: =(CH17/1.18)/2+((CH17/1.18)*0.18) -> 0 | CJ17: =(CH17/1.18)/2 -> 0 | CP17: =(CO17/1.18)/2+((CO17/1.18)*0.18) -> 0 | CQ17: =(CO17/1.18)/2 -> 0 | CW17: =(CV17/1.18)/2+((CV17/1.18)*0.18) -> 0 | CX17: =(CV17/1.18)/2 -> 0 | DB17: =L17+S17+Z17+AD17+AK17+AY17+BF17+BT17+CA17+CH17+CO17+CV17 -> 0 | DC17: =M17+T17+AA17+AE17+AL17+AZ17+BG17+BU17+CB17+CI17+CP17+CW17 -> 0 | DD17: =N17+U17+AB17+AF17+AM17+BA17+BH17+BV17+CC17+CJ17+CQ17+CX17 -> 0 | DE17: =O17+V17+AG17+AN17+BB17+BI17+BW17+CD17+CK17+CR17+CY17 -> 0 | DF17: =P17+W17+AH17+AO17+BC17+BJ17+BX17+CE17+CL17+CS17+CZ17 -> 0 | DG17: =Q17+X17+AI17+AP17+BD17+BK17+BY17+CF17+CM17+CT17+DA17 -> 0
B18: =B17+1 -> 12 | C18: =+#REF! -> #REF! | D18: K | E18: =#REF! -> #REF! | F18: =SUMIF(#REF!,$E18,#REF!) -> #REF! | G18: =SUMIF(#REF!,$E18,#REF!) -> #REF! | H18: =+G18+F18 -> #REF! | I18: =H18 -> #REF! | M18: =(L18/1.18)/2+((L18/1.18)*0.18) -> 0 | N18: =(L18/1.18)/2 -> 0 | T18: =(S18/1.18)/2+((S18/1.18)*0.18) -> 0 | U18: =(S18/1.18)/2 -> 0 | AA18: =(Z18/1.18)/2+((Z18/1.18)*0.18) -> 0 | AB18: =(Z18/1.18)/2 -> 0 | AE18: =(AD18/1.18)/2+((AD18/1.18)*0.18) -> 0 | AF18: =(AD18/1.18)/2 -> 0 | AL18: =(AK18/1.18)/2+((AK18/1.18)*0.18) -> 0 | AM18: =(AK18/1.18)/2 -> 0 | AZ18: =(AY18/1.18)/2+((AY18/1.18)*0.18) -> 0 | BA18: =(AY18/1.18)/2 -> 0 | BG18: =(BF18/1.18)/2+((BF18/1.18)*0.18) -> 0 | BH18: =(BF18/1.18)/2 -> 0 | BU18: =(BT18/1.18)/2+((BT18/1.18)*0.18) -> 0 | BV18: =(BT18/1.18)/2 -> 0 | CB18: =(CA18/1.18)/2+((CA18/1.18)*0.18) -> 0 | CC18: =(CA18/1.18)/2 -> 0 | CI18: =(CH18/1.18)/2+((CH18/1.18)*0.18) -> 0 | CJ18: =(CH18/1.18)/2 -> 0 | CP18: =(CO18/1.18)/2+((CO18/1.18)*0.18) -> 0 | CQ18: =(CO18/1.18)/2 -> 0 | CW18: =(CV18/1.18)/2+((CV18/1.18)*0.18) -> 0 | CX18: =(CV18/1.18)/2 -> 0 | DB18: =L18+S18+Z18+AD18+AK18+AY18+BF18+BT18+CA18+CH18+CO18+CV18 -> 0 | DC18: =M18+T18+AA18+AE18+AL18+AZ18+BG18+BU18+CB18+CI18+CP18+CW18 -> 0 | DD18: =N18+U18+AB18+AF18+AM18+BA18+BH18+BV18+CC18+CJ18+CQ18+CX18 -> 0 | DE18: =O18+V18+AG18+AN18+BB18+BI18+BW18+CD18+CK18+CR18+CY18 -> 0 | DF18: =P18+W18+AH18+AO18+BC18+BJ18+BX18+CE18+CL18+CS18+CZ18 -> 0 | DG18: =Q18+X18+AI18+AP18+BD18+BK18+BY18+CF18+CM18+CT18+DA18 -> 0
B19: =B18+1 -> 13 | C19: =+#REF! -> #REF! | D19: K | E19: =#REF! -> #REF! | F19: =SUMIF(#REF!,$E19,#REF!) -> #REF! | G19: =SUMIF(#REF!,$E19,#REF!) -> #REF! | H19: =+G19+F19 -> #REF! | I19: =H19 -> #REF! | M19: =(L19/1.18)/2+((L19/1.18)*0.18) -> 0 | N19: =(L19/1.18)/2 -> 0 | T19: =(S19/1.18)/2+((S19/1.18)*0.18) -> 0 | U19: =(S19/1.18)/2 -> 0 | AA19: =(Z19/1.18)/2+((Z19/1.18)*0.18) -> 0 | AB19: =(Z19/1.18)/2 -> 0 | AE19: =(AD19/1.18)/2+((AD19/1.18)*0.18) -> 0 | AF19: =(AD19/1.18)/2 -> 0 | AL19: =(AK19/1.18)/2+((AK19/1.18)*0.18) -> 0 | AM19: =(AK19/1.18)/2 -> 0 | AZ19: =(AY19/1.18)/2+((AY19/1.18)*0.18) -> 0 | BA19: =(AY19/1.18)/2 -> 0 | BG19: =(BF19/1.18)/2+((BF19/1.18)*0.18) -> 0 | BH19: =(BF19/1.18)/2 -> 0 | BU19: =(BT19/1.18)/2+((BT19/1.18)*0.18) -> 0 | BV19: =(BT19/1.18)/2 -> 0 | CB19: =(CA19/1.18)/2+((CA19/1.18)*0.18) -> 0 | CC19: =(CA19/1.18)/2 -> 0 | CI19: =(CH19/1.18)/2+((CH19/1.18)*0.18) -> 0 | CJ19: =(CH19/1.18)/2 -> 0 | CP19: =(CO19/1.18)/2+((CO19/1.18)*0.18) -> 0 | CQ19: =(CO19/1.18)/2 -> 0 | CW19: =(CV19/1.18)/2+((CV19/1.18)*0.18) -> 0 | CX19: =(CV19/1.18)/2 -> 0 | DB19: =L19+S19+Z19+AD19+AK19+AY19+BF19+BT19+CA19+CH19+CO19+CV19 -> 0 | DC19: =M19+T19+AA19+AE19+AL19+AZ19+BG19+BU19+CB19+CI19+CP19+CW19 -> 0 | DD19: =N19+U19+AB19+AF19+AM19+BA19+BH19+BV19+CC19+CJ19+CQ19+CX19 -> 0 | DE19: =O19+V19+AG19+AN19+BB19+BI19+BW19+CD19+CK19+CR19+CY19 -> 0 | DF19: =P19+W19+AH19+AO19+BC19+BJ19+BX19+CE19+CL19+CS19+CZ19 -> 0 | DG19: =Q19+X19+AI19+AP19+BD19+BK19+BY19+CF19+CM19+CT19+DA19 -> 0
B20: =B19+1 -> 14 | C20: =+#REF! -> #REF! | D20: K | E20: =#REF! -> #REF! | F20: =SUMIF(#REF!,$E20,#REF!) -> #REF! | G20: =SUMIF(#REF!,$E20,#REF!) -> #REF! | H20: =+G20+F20 -> #REF! | I20: =H20 -> #REF! | M20: =(L20/1.18)/2+((L20/1.18)*0.18) -> 0 | N20: =(L20/1.18)/2 -> 0 | T20: =(S20/1.18)/2+((S20/1.18)*0.18) -> 0 | U20: =(S20/1.18)/2 -> 0 | AA20: =(Z20/1.18)/2+((Z20/1.18)*0.18) -> 0 | AB20: =(Z20/1.18)/2 -> 0 | AE20: =(AD20/1.18)/2+((AD20/1.18)*0.18) -> 0 | AF20: =(AD20/1.18)/2 -> 0 | AL20: =(AK20/1.18)/2+((AK20/1.18)*0.18) -> 0 | AM20: =(AK20/1.18)/2 -> 0 | AZ20: =(AY20/1.18)/2+((AY20/1.18)*0.18) -> 0 | BA20: =(AY20/1.18)/2 -> 0 | BG20: =(BF20/1.18)/2+((BF20/1.18)*0.18) -> 0 | BH20: =(BF20/1.18)/2 -> 0 | BU20: =(BT20/1.18)/2+((BT20/1.18)*0.18) -> 0 | BV20: =(BT20/1.18)/2 -> 0 | CB20: =(CA20/1.18)/2+((CA20/1.18)*0.18) -> 0 | CC20: =(CA20/1.18)/2 -> 0 | CI20: =(CH20/1.18)/2+((CH20/1.18)*0.18) -> 0 | CJ20: =(CH20/1.18)/2 -> 0 | CP20: =(CO20/1.18)/2+((CO20/1.18)*0.18) -> 0 | CQ20: =(CO20/1.18)/2 -> 0 | CW20: =(CV20/1.18)/2+((CV20/1.18)*0.18) -> 0 | CX20: =(CV20/1.18)/2 -> 0 | DB20: =L20+S20+Z20+AD20+AK20+AY20+BF20+BT20+CA20+CH20+CO20+CV20 -> 0 | DC20: =M20+T20+AA20+AE20+AL20+AZ20+BG20+BU20+CB20+CI20+CP20+CW20 -> 0 | DD20: =N20+U20+AB20+AF20+AM20+BA20+BH20+BV20+CC20+CJ20+CQ20+CX20 -> 0 | DE20: =O20+V20+AG20+AN20+BB20+BI20+BW20+CD20+CK20+CR20+CY20 -> 0 | DF20: =P20+W20+AH20+AO20+BC20+BJ20+BX20+CE20+CL20+CS20+CZ20 -> 0 | DG20: =Q20+X20+AI20+AP20+BD20+BK20+BY20+CF20+CM20+CT20+DA20 -> 0
B21: =B20+1 -> 15 | C21: =+#REF! -> #REF! | D21: K | E21: =#REF! -> #REF! | F21: =SUMIF(#REF!,$E21,#REF!) -> #REF! | G21: =SUMIF(#REF!,$E21,#REF!) -> #REF! | H21: =+G21+F21 -> #REF! | I21: =H21 -> #REF! | M21: =(L21/1.18)/2+((L21/1.18)*0.18) -> 0 | N21: =(L21/1.18)/2 -> 0 | T21: =(S21/1.18)/2+((S21/1.18)*0.18) -> 0 | U21: =(S21/1.18)/2 -> 0 | AA21: =(Z21/1.18)/2+((Z21/1.18)*0.18) -> 0 | AB21: =(Z21/1.18)/2 -> 0 | AE21: =(AD21/1.18)/2+((AD21/1.18)*0.18) -> 0 | AF21: =(AD21/1.18)/2 -> 0 | AL21: =(AK21/1.18)/2+((AK21/1.18)*0.18) -> 0 | AM21: =(AK21/1.18)/2 -> 0 | AZ21: =(AY21/1.18)/2+((AY21/1.18)*0.18) -> 0 | BA21: =(AY21/1.18)/2 -> 0 | BG21: =(BF21/1.18)/2+((BF21/1.18)*0.18) -> 0 | BH21: =(BF21/1.18)/2 -> 0 | BU21: =(BT21/1.18)/2+((BT21/1.18)*0.18) -> 0 | BV21: =(BT21/1.18)/2 -> 0 | CB21: =(CA21/1.18)/2+((CA21/1.18)*0.18) -> 0 | CC21: =(CA21/1.18)/2 -> 0 | CI21: =(CH21/1.18)/2+((CH21/1.18)*0.18) -> 0 | CJ21: =(CH21/1.18)/2 -> 0 | CP21: =(CO21/1.18)/2+((CO21/1.18)*0.18) -> 0 | CQ21: =(CO21/1.18)/2 -> 0 | CW21: =(CV21/1.18)/2+((CV21/1.18)*0.18) -> 0 | CX21: =(CV21/1.18)/2 -> 0 | DB21: =L21+S21+Z21+AD21+AK21+AY21+BF21+BT21+CA21+CH21+CO21+CV21 -> 0 | DC21: =M21+T21+AA21+AE21+AL21+AZ21+BG21+BU21+CB21+CI21+CP21+CW21 -> 0 | DD21: =N21+U21+AB21+AF21+AM21+BA21+BH21+BV21+CC21+CJ21+CQ21+CX21 -> 0 | DE21: =O21+V21+AG21+AN21+BB21+BI21+BW21+CD21+CK21+CR21+CY21 -> 0 | DF21: =P21+W21+AH21+AO21+BC21+BJ21+BX21+CE21+CL21+CS21+CZ21 -> 0 | DG21: =Q21+X21+AI21+AP21+BD21+BK21+BY21+CF21+CM21+CT21+DA21 -> 0
B22: =B21+1 -> 16 | C22: =+#REF! -> #REF! | D22: K | E22: =#REF! -> #REF! | F22: =SUMIF(#REF!,$E22,#REF!) -> #REF! | G22: =SUMIF(#REF!,$E22,#REF!) -> #REF! | H22: =+G22+F22 -> #REF! | I22: =H22 -> #REF! | M22: =(L22/1.18)/2+((L22/1.18)*0.18) -> 0 | N22: =(L22/1.18)/2 -> 0 | T22: =(S22/1.18)/2+((S22/1.18)*0.18) -> 0 | U22: =(S22/1.18)/2 -> 0 | AA22: =(Z22/1.18)/2+((Z22/1.18)*0.18) -> 0 | AB22: =(Z22/1.18)/2 -> 0 | AE22: =(AD22/1.18)/2+((AD22/1.18)*0.18) -> 0 | AF22: =(AD22/1.18)/2 -> 0 | AL22: =(AK22/1.18)/2+((AK22/1.18)*0.18) -> 0 | AM22: =(AK22/1.18)/2 -> 0 | AZ22: =(AY22/1.18)/2+((AY22/1.18)*0.18) -> 0 | BA22: =(AY22/1.18)/2 -> 0 | BG22: =(BF22/1.18)/2+((BF22/1.18)*0.18) -> 0 | BH22: =(BF22/1.18)/2 -> 0 | BU22: =(BT22/1.18)/2+((BT22/1.18)*0.18) -> 0 | BV22: =(BT22/1.18)/2 -> 0 | CB22: =(CA22/1.18)/2+((CA22/1.18)*0.18) -> 0 | CC22: =(CA22/1.18)/2 -> 0 | CI22: =(CH22/1.18)/2+((CH22/1.18)*0.18) -> 0 | CJ22: =(CH22/1.18)/2 -> 0 | CP22: =(CO22/1.18)/2+((CO22/1.18)*0.18) -> 0 | CQ22: =(CO22/1.18)/2 -> 0 | CW22: =(CV22/1.18)/2+((CV22/1.18)*0.18) -> 0 | CX22: =(CV22/1.18)/2 -> 0 | DB22: =L22+S22+Z22+AD22+AK22+AY22+BF22+BT22+CA22+CH22+CO22+CV22 -> 0 | DC22: =M22+T22+AA22+AE22+AL22+AZ22+BG22+BU22+CB22+CI22+CP22+CW22 -> 0 | DD22: =N22+U22+AB22+AF22+AM22+BA22+BH22+BV22+CC22+CJ22+CQ22+CX22 -> 0 | DE22: =O22+V22+AG22+AN22+BB22+BI22+BW22+CD22+CK22+CR22+CY22 -> 0 | DF22: =P22+W22+AH22+AO22+BC22+BJ22+BX22+CE22+CL22+CS22+CZ22 -> 0 | DG22: =Q22+X22+AI22+AP22+BD22+BK22+BY22+CF22+CM22+CT22+DA22 -> 0
